BEGIN:VCALENDAR
VERSION:2.0
PRODID:-//Southend High School for Girls - ECPv6.15.20//NONSGML v1.0//EN
CALSCALE:GREGORIAN
METHOD:PUBLISH
X-WR-CALNAME:Southend High School for Girls
X-ORIGINAL-URL:https://www.shsg.org
X-WR-CALDESC:Events for Southend High School for Girls
REFRESH-INTERVAL;VALUE=DURATION:PT1H
X-Robots-Tag:noindex
X-PUBLISHED-TTL:PT1H
BEGIN:VTIMEZONE
TZID:Europe/London
BEGIN:DAYLIGHT
TZOFFSETFROM:+0000
TZOFFSETTO:+0100
TZNAME:BST
DTSTART:20230326T010000
END:DAYLIGHT
BEGIN:STANDARD
TZOFFSETFROM:+0100
TZOFFSETTO:+0000
TZNAME:GMT
DTSTART:20231029T010000
END:STANDARD
BEGIN:DAYLIGHT
TZOFFSETFROM:+0000
TZOFFSETTO:+0100
TZNAME:BST
DTSTART:20240331T010000
END:DAYLIGHT
BEGIN:STANDARD
TZOFFSETFROM:+0100
TZOFFSETTO:+0000
TZNAME:GMT
DTSTART:20241027T010000
END:STANDARD
BEGIN:DAYLIGHT
TZOFFSETFROM:+0000
TZOFFSETTO:+0100
TZNAME:BST
DTSTART:20250330T010000
END:DAYLIGHT
BEGIN:STANDARD
TZOFFSETFROM:+0100
TZOFFSETTO:+0000
TZNAME:GMT
DTSTART:20251026T010000
END:STANDARD
END:VTIMEZONE
BEGIN:VEVENT
DTSTART;VALUE=DATE:20241028
DTEND;VALUE=DATE:20241102
DTSTAMP:20260424T041737
CREATED:20240617T092144Z
LAST-MODIFIED:20240617T092144Z
UID:8378-1730073600-1730505599@www.shsg.org
SUMMARY:Autumn Half Term
DESCRIPTION:Autumn Half Term – school closed to students
URL:https://www.shsg.org/event/autumn-school-holidays-2024/
LOCATION:Southend High School for Girls\, Southend High School for Girls\, Southend\, Southend-on-sea\, SS2 4UZ\, United Kingdom
CATEGORIES:Autumn Term,Key Dates,Parents’ Information
ATTACH;FMTTYPE=image/jpeg:https://www.shsg.org/wp-content/uploads/2021/06/Southend-High-School-Exports_-379-scaled.jpg
ORGANIZER;CN="Southend High School for Girls":MAILTO:office@shsg.org
END:VEVENT
END:VCALENDAR