BEGIN:VCALENDAR
VERSION:2.0
PRODID:-//Southend High School for Girls - ECPv6.15.20//NONSGML v1.0//EN
CALSCALE:GREGORIAN
METHOD:PUBLISH
X-ORIGINAL-URL:https://www.shsg.org
X-WR-CALDESC:Events for Southend High School for Girls
REFRESH-INTERVAL;VALUE=DURATION:PT1H
X-Robots-Tag:noindex
X-PUBLISHED-TTL:PT1H
BEGIN:VTIMEZONE
TZID:Europe/London
BEGIN:DAYLIGHT
TZOFFSETFROM:+0000
TZOFFSETTO:+0100
TZNAME:BST
DTSTART:20240331T010000
END:DAYLIGHT
BEGIN:STANDARD
TZOFFSETFROM:+0100
TZOFFSETTO:+0000
TZNAME:GMT
DTSTART:20241027T010000
END:STANDARD
BEGIN:DAYLIGHT
TZOFFSETFROM:+0000
TZOFFSETTO:+0100
TZNAME:BST
DTSTART:20250330T010000
END:DAYLIGHT
BEGIN:STANDARD
TZOFFSETFROM:+0100
TZOFFSETTO:+0000
TZNAME:GMT
DTSTART:20251026T010000
END:STANDARD
BEGIN:DAYLIGHT
TZOFFSETFROM:+0000
TZOFFSETTO:+0100
TZNAME:BST
DTSTART:20260329T010000
END:DAYLIGHT
BEGIN:STANDARD
TZOFFSETFROM:+0100
TZOFFSETTO:+0000
TZNAME:GMT
DTSTART:20261025T010000
END:STANDARD
BEGIN:DAYLIGHT
TZOFFSETFROM:+0000
TZOFFSETTO:+0100
TZNAME:BST
DTSTART:20270328T010000
END:DAYLIGHT
BEGIN:STANDARD
TZOFFSETFROM:+0100
TZOFFSETTO:+0000
TZNAME:GMT
DTSTART:20271031T010000
END:STANDARD
END:VTIMEZONE
BEGIN:VEVENT
DTSTART;VALUE=DATE:20260319
DTEND;VALUE=DATE:20260320
DTSTAMP:20260424T033344
CREATED:20260119T114235Z
LAST-MODIFIED:20260119T114235Z
UID:9621-1773878400-1773964799@www.shsg.org
SUMMARY:Year 8 - Parents Evening
DESCRIPTION:
URL:https://www.shsg.org/event/year-8-parents-evening-2026/
CATEGORIES:Parents Evening,Parents’ Information,School Event,Spring Term
ATTACH;FMTTYPE=image/jpeg:https://www.shsg.org/wp-content/uploads/2022/09/SHSG-FINAL-BLAZER-RETOUCH-FADE-4-WEBSITE-SML-e1706306721686.jpg
END:VEVENT
BEGIN:VEVENT
DTSTART;VALUE=DATE:20260305
DTEND;VALUE=DATE:20260306
DTSTAMP:20260424T033344
CREATED:20260119T113659Z
LAST-MODIFIED:20260119T113659Z
UID:9619-1772668800-1772755199@www.shsg.org
SUMMARY:Year 9 - Parents Evening
DESCRIPTION:
URL:https://www.shsg.org/event/year-9-parents-evening-2026/
CATEGORIES:Parents Evening,Parents’ Information,School Event,Spring Term
ATTACH;FMTTYPE=image/jpeg:https://www.shsg.org/wp-content/uploads/2022/09/SHSG-FINAL-BLAZER-RETOUCH-FADE-4-WEBSITE-SML-e1706306721686.jpg
END:VEVENT
BEGIN:VEVENT
DTSTART;TZID=Europe/London:20260304T113000
DTEND;TZID=Europe/London:20260304T153000
DTSTAMP:20260424T033344
CREATED:20260119T112539Z
LAST-MODIFIED:20260119T112552Z
UID:9618-1772623800-1772638200@www.shsg.org
SUMMARY:Years 7 - 11 - Borough Swimming Gala
DESCRIPTION:
URL:https://www.shsg.org/event/years-7-11-borough-swimming-gala-03-2026/
CATEGORIES:Parents’ Information,School Event,Spring Term
ATTACH;FMTTYPE=image/jpeg:https://www.shsg.org/wp-content/uploads/2023/11/Swimming-scaled.jpg
END:VEVENT
BEGIN:VEVENT
DTSTART;VALUE=DATE:20260302
DTEND;VALUE=DATE:20260307
DTSTAMP:20260424T033344
CREATED:20260119T112401Z
LAST-MODIFIED:20260119T112401Z
UID:9617-1772409600-1772841599@www.shsg.org
SUMMARY:Charity Week
DESCRIPTION:
URL:https://www.shsg.org/event/charity-week-2026/
CATEGORIES:Key Dates,School Event,Spring Term
END:VEVENT
BEGIN:VEVENT
DTSTART;VALUE=DATE:20260227
DTEND;VALUE=DATE:20260228
DTSTAMP:20260424T033344
CREATED:20260119T112314Z
LAST-MODIFIED:20260119T112314Z
UID:9616-1772150400-1772236799@www.shsg.org
SUMMARY:Non Uniform Day
DESCRIPTION:
URL:https://www.shsg.org/event/non-uniform-day-02-2026/
CATEGORIES:Featured Event,Parents’ Information,School Event,Spring Term
END:VEVENT
BEGIN:VEVENT
DTSTART;VALUE=DATE:20260212
DTEND;VALUE=DATE:20260213
DTSTAMP:20260424T033344
CREATED:20260119T110514Z
LAST-MODIFIED:20260119T110514Z
UID:9610-1770854400-1770940799@www.shsg.org
SUMMARY:Year 12 Parents Evening
DESCRIPTION:
URL:https://www.shsg.org/event/year-12-parents-evening-2026/
CATEGORIES:Parents Evening,Parents’ Information,School Event,Spring Term
ATTACH;FMTTYPE=image/jpeg:https://www.shsg.org/wp-content/uploads/2022/09/SHSG-FINAL-BLAZER-RETOUCH-FADE-4-WEBSITE-SML-e1706306721686.jpg
END:VEVENT
BEGIN:VEVENT
DTSTART;VALUE=DATE:20260204
DTEND;VALUE=DATE:20260208
DTSTAMP:20260424T033344
CREATED:20260113T091353Z
LAST-MODIFIED:20260114T122926Z
UID:9596-1770163200-1770508799@www.shsg.org
SUMMARY:Guys and Dolls Jr - School Production
DESCRIPTION:This year\, we will have 4 evening performances of Guys and Dolls Jr from Wednesday 4th February to Saturday 7th February at 7pm. \nTickets are available at: www.ticketsource.co.uk/southend-high-school-for-girls \n  \n 
URL:https://www.shsg.org/event/guys-and-dolls-jr-school-production/
CATEGORIES:Featured Event,School Event,Spring Term
ATTACH;FMTTYPE=image/jpeg:https://www.shsg.org/wp-content/uploads/GUYS-AND-DOLLS-A5-POSTER-FINAL-CAST-1.jpg
END:VEVENT
BEGIN:VEVENT
DTSTART;TZID=Europe/London:20260127T180000
DTEND;TZID=Europe/London:20260127T200000
DTSTAMP:20260424T033344
CREATED:20250827T130021Z
LAST-MODIFIED:20260119T104724Z
UID:9434-1769536800-1769544000@www.shsg.org
SUMMARY:Year 9 - Options and Subject Fair
DESCRIPTION:
URL:https://www.shsg.org/event/year-9-options-fair-2026/
CATEGORIES:Featured Event,Key Dates,Parents’ Information,School Event,Spring Term
ATTACH;FMTTYPE=image/jpeg:https://www.shsg.org/wp-content/uploads/2022/09/SHSG-FINAL-BLAZER-RETOUCH-FADE-4-WEBSITE-SML-e1706306721686.jpg
END:VEVENT
BEGIN:VEVENT
DTSTART;VALUE=DATE:20260122
DTEND;VALUE=DATE:20260123
DTSTAMP:20260424T033344
CREATED:20250827T130151Z
LAST-MODIFIED:20260108T183540Z
UID:9435-1769040000-1769126399@www.shsg.org
SUMMARY:Year 7 - Parents Evening
DESCRIPTION:
URL:https://www.shsg.org/event/year-7-parents-evening-2026/
CATEGORIES:Featured Event,Parents Evening,Parents’ Information,School Event,Spring Term
ATTACH;FMTTYPE=image/jpeg:https://www.shsg.org/wp-content/uploads/2023/06/Photograph-of-school.jpg
END:VEVENT
BEGIN:VEVENT
DTSTART;TZID=Europe/London:20251217T190000
DTEND;TZID=Europe/London:20251217T210000
DTSTAMP:20260424T033344
CREATED:20250819T100403Z
LAST-MODIFIED:20250819T100403Z
UID:9364-1765998000-1766005200@www.shsg.org
SUMMARY:Carol Service
DESCRIPTION:
URL:https://www.shsg.org/event/carol-service-2025/
CATEGORIES:Autumn Term,Parents’ Information,School Event
ATTACH;FMTTYPE=image/jpeg:https://www.shsg.org/wp-content/uploads/2023/09/Carol-Service.jpeg
END:VEVENT
BEGIN:VEVENT
DTSTART;TZID=Europe/London:20251210T183000
DTEND;TZID=Europe/London:20251210T210000
DTSTAMP:20260424T033344
CREATED:20250819T092031Z
LAST-MODIFIED:20250819T092031Z
UID:9358-1765391400-1765400400@www.shsg.org
SUMMARY:Winter Concert
DESCRIPTION:
URL:https://www.shsg.org/event/winter-concert-2025-2/
CATEGORIES:Autumn Term,Key Dates,Parents’ Information,School Event
ATTACH;FMTTYPE=image/png:https://www.shsg.org/wp-content/uploads/2021/08/Banner-4-music-3.png
END:VEVENT
BEGIN:VEVENT
DTSTART;VALUE=DATE:20251210
DTEND;VALUE=DATE:20251212
DTSTAMP:20260424T033344
CREATED:20250819T092903Z
LAST-MODIFIED:20251205T122034Z
UID:9360-1765324800-1765497599@www.shsg.org
SUMMARY:Christmas Jumper Day
DESCRIPTION:
URL:https://www.shsg.org/event/christmas-jumper-day-2025/
CATEGORIES:Autumn Term,Key Dates,Parents’ Information,School Event
ATTACH;FMTTYPE=image/jpeg:https://www.shsg.org/wp-content/uploads/2023/11/Christmas-Jumper-Day.jpeg
END:VEVENT
BEGIN:VEVENT
DTSTART;VALUE=DATE:20251210
DTEND;VALUE=DATE:20251212
DTSTAMP:20260424T033344
CREATED:20250819T092818Z
LAST-MODIFIED:20251205T122041Z
UID:9361-1765324800-1765497599@www.shsg.org
SUMMARY:Christmas Lunch
DESCRIPTION:
URL:https://www.shsg.org/event/christmas-lunch-2025/
CATEGORIES:Autumn Term,Parents’ Information,School Event
ATTACH;FMTTYPE=image/png:https://www.shsg.org/wp-content/uploads/Christmas-Lunch-scaled.png
END:VEVENT
BEGIN:VEVENT
DTSTART;TZID=Europe/London:20251209T183000
DTEND;TZID=Europe/London:20251209T210000
DTSTAMP:20260424T033344
CREATED:20250819T092009Z
LAST-MODIFIED:20250819T092009Z
UID:9357-1765305000-1765314000@www.shsg.org
SUMMARY:Winter Concert
DESCRIPTION:
URL:https://www.shsg.org/event/winter-concert-2025/
CATEGORIES:Autumn Term,Key Dates,Parents’ Information,School Event
ATTACH;FMTTYPE=image/png:https://www.shsg.org/wp-content/uploads/2021/08/Banner-4-music-3.png
END:VEVENT
BEGIN:VEVENT
DTSTART;VALUE=DATE:20251205
DTEND;VALUE=DATE:20251206
DTSTAMP:20260424T033344
CREATED:20250819T091751Z
LAST-MODIFIED:20250819T091751Z
UID:9355-1764892800-1764979199@www.shsg.org
SUMMARY:Year 11 - Subject Fair for A Level
DESCRIPTION:
URL:https://www.shsg.org/event/year-11-subject-fair-for-a-level-2025/
CATEGORIES:Autumn Term,Parents’ Information,School Event
ATTACH;FMTTYPE=image/jpeg:https://www.shsg.org/wp-content/uploads/2022/09/SHSG-FINAL-BLAZER-RETOUCH-FADE-4-WEBSITE-SML-e1706306721686.jpg
END:VEVENT
BEGIN:VEVENT
DTSTART;VALUE=DATE:20251205
DTEND;VALUE=DATE:20251207
DTSTAMP:20260424T033344
CREATED:20250819T091436Z
LAST-MODIFIED:20250819T091436Z
UID:9353-1764892800-1765065599@www.shsg.org
SUMMARY:Years 7 - 13 - ESA Cross Country National Cup Final
DESCRIPTION:
URL:https://www.shsg.org/event/years-7-13-esa-cross-country-national-cup-final-2025/
CATEGORIES:Autumn Term,Parents’ Information,School Event
ATTACH;FMTTYPE=image/jpeg:https://www.shsg.org/wp-content/uploads/2023/11/running.jpeg
END:VEVENT
BEGIN:VEVENT
DTSTART;VALUE=DATE:20251204
DTEND;VALUE=DATE:20251205
DTSTAMP:20260424T033344
CREATED:20250819T091310Z
LAST-MODIFIED:20250819T091310Z
UID:9352-1764806400-1764892799@www.shsg.org
SUMMARY:Year 11 Parents' Evening
DESCRIPTION:
URL:https://www.shsg.org/event/year-11-parents-evening-2025/
CATEGORIES:Autumn Term,Parents Evening,Parents’ Information,School Event,Virtual Event
ATTACH;FMTTYPE=image/jpeg:https://www.shsg.org/wp-content/uploads/2022/07/SHSG-FINAL-BLAZER-RETOUCH-NO-FADE-SML-e1664129373859.jpg
END:VEVENT
BEGIN:VEVENT
DTSTART;VALUE=DATE:20251202
DTEND;VALUE=DATE:20251203
DTSTAMP:20260424T033344
CREATED:20250819T091106Z
LAST-MODIFIED:20250819T091106Z
UID:9351-1764633600-1764719999@www.shsg.org
SUMMARY:Year 7 - Christmas Song Day
DESCRIPTION:
URL:https://www.shsg.org/event/year-7-christmas-song-day-2025/
CATEGORIES:Autumn Term,Parents’ Information,School Event
ATTACH;FMTTYPE=image/jpeg:https://www.shsg.org/wp-content/uploads/2023/09/C-Music.jpeg
END:VEVENT
BEGIN:VEVENT
DTSTART;VALUE=DATE:20251126
DTEND;VALUE=DATE:20251129
DTSTAMP:20260424T033344
CREATED:20250819T083931Z
LAST-MODIFIED:20250819T083931Z
UID:9349-1764115200-1764374399@www.shsg.org
SUMMARY:Southend Festival of Performing Arts
DESCRIPTION:
URL:https://www.shsg.org/event/southend-festival-of-performing-arts-2025/
CATEGORIES:Autumn Term,Parents’ Information,School Event
ATTACH;FMTTYPE=image/jpeg:https://www.shsg.org/wp-content/uploads/2023/11/Southend_Musical_Festival-80.jpg
END:VEVENT
BEGIN:VEVENT
DTSTART;VALUE=DATE:20251113
DTEND;VALUE=DATE:20251114
DTSTAMP:20260424T033344
CREATED:20250818T161638Z
LAST-MODIFIED:20250818T161638Z
UID:9339-1762992000-1763078399@www.shsg.org
SUMMARY:Year 12 & 13 - UKMT Challenge
DESCRIPTION:
URL:https://www.shsg.org/event/year-12-13-ukmt-challenge/
CATEGORIES:Autumn Term,Parents’ Information,School Event
ATTACH;FMTTYPE=image/png:https://www.shsg.org/wp-content/uploads/UKMT.png
END:VEVENT
BEGIN:VEVENT
DTSTART;TZID=Europe/London:20251112T083000
DTEND;TZID=Europe/London:20251112T163000
DTSTAMP:20260424T033344
CREATED:20250818T161206Z
LAST-MODIFIED:20250818T161206Z
UID:9338-1762936200-1762965000@www.shsg.org
SUMMARY:Years 7 - 13 - Borough Cross Country
DESCRIPTION:
URL:https://www.shsg.org/event/years-7-13-borough-cross-country/
CATEGORIES:Autumn Term,Parents’ Information,School Event,Trips & Visits
ATTACH;FMTTYPE=image/jpeg:https://www.shsg.org/wp-content/uploads/2023/11/running.jpeg
END:VEVENT
BEGIN:VEVENT
DTSTART;TZID=Europe/London:20251106T080000
DTEND;TZID=Europe/London:20251106T140000
DTSTAMP:20260424T033344
CREATED:20250818T133039Z
LAST-MODIFIED:20250818T133048Z
UID:9336-1762416000-1762437600@www.shsg.org
SUMMARY:Years 7 - 13 - Regional Cross Country
DESCRIPTION:
URL:https://www.shsg.org/event/years-7-13-regional-cross-country-2025/
CATEGORIES:Autumn Term,Parents’ Information,School Event
ATTACH;FMTTYPE=image/jpeg:https://www.shsg.org/wp-content/uploads/2023/11/running.jpeg
END:VEVENT
BEGIN:VEVENT
DTSTART;TZID=Europe/London:20251105T180000
DTEND;TZID=Europe/London:20251105T200000
DTSTAMP:20260424T033344
CREATED:20250818T132602Z
LAST-MODIFIED:20251012T180811Z
UID:9335-1762365600-1762372800@www.shsg.org
SUMMARY:Sixth Form Open Evening
DESCRIPTION:
URL:https://www.shsg.org/event/sixth-form-open-evening-2025/
LOCATION:Southend High School for Girls\, Southend High School for Girls\, Southend\, Southend-on-sea\, SS2 4UZ\, United Kingdom
CATEGORIES:Autumn Term,Featured Event,Open Event,Parents Evening,Parents’ Information,School Event
ATTACH;FMTTYPE=image/png:https://www.shsg.org/wp-content/uploads/Sixth-Form-Open-Evening-2025-Instagram-Post-Square-scaled-e1760292296210.png
ORGANIZER;CN="Southend High School for Girls":MAILTO:office@shsg.org
END:VEVENT
BEGIN:VEVENT
DTSTART;VALUE=DATE:20251024
DTEND;VALUE=DATE:20251025
DTSTAMP:20260424T033344
CREATED:20250818T125419Z
LAST-MODIFIED:20250818T125419Z
UID:9331-1761264000-1761350399@www.shsg.org
SUMMARY:School Birthday
DESCRIPTION:
URL:https://www.shsg.org/event/school-birthday-2025/
LOCATION:Southend High School for Girls\, Southend High School for Girls\, Southend\, Southend-on-sea\, SS2 4UZ\, United Kingdom
CATEGORIES:Autumn Term,Featured Event,School Event
ATTACH;FMTTYPE=image/png:https://www.shsg.org/wp-content/uploads/2023/10/Black-And-Gold-Clean-Happy-Birthday-Card-e1729108911397.png
ORGANIZER;CN="Southend High School for Girls":MAILTO:office@shsg.org
END:VEVENT
BEGIN:VEVENT
DTSTART;VALUE=DATE:20251023
DTEND;VALUE=DATE:20251024
DTSTAMP:20260424T033344
CREATED:20250818T124954Z
LAST-MODIFIED:20250818T125214Z
UID:9327-1761177600-1761263999@www.shsg.org
SUMMARY:Chemistry Mole Day
DESCRIPTION:
URL:https://www.shsg.org/event/chemistry-mole-day-2025/
CATEGORIES:Autumn Term,School Event
ATTACH;FMTTYPE=image/png:https://www.shsg.org/wp-content/uploads/Mole-Day-2-scaled.png
END:VEVENT
BEGIN:VEVENT
DTSTART;TZID=Europe/London:20251020T143000
DTEND;TZID=Europe/London:20251020T153000
DTSTAMP:20260424T033344
CREATED:20250818T124107Z
LAST-MODIFIED:20250818T124107Z
UID:9326-1760970600-1760974200@www.shsg.org
SUMMARY:Year 7 - Road Safety Workshop
DESCRIPTION:
URL:https://www.shsg.org/event/year-7-road-safety-workshop-2025/
CATEGORIES:Autumn Term,Parents’ Information,School Event
ATTACH;FMTTYPE=image/png:https://www.shsg.org/wp-content/uploads/2022/02/school-view-back-e1643791634506.png
END:VEVENT
BEGIN:VEVENT
DTSTART;VALUE=DATE:20251017
DTEND;VALUE=DATE:20251024
DTSTAMP:20260424T033344
CREATED:20250818T114538Z
LAST-MODIFIED:20251009T205639Z
UID:9324-1760659200-1761263999@www.shsg.org
SUMMARY:Year 6 Post 11+ Tours - Booking Required
DESCRIPTION:We are offering Year 6 school tours during the school day from Friday 17th October 2025 to Thursday 23rd October 2025. The tours will be at 10:15am and 1:45pm daily during that period. \nPlease note that all tours are by appointment only via the link below.  The booking system opens on Tuesday 14th October 2025 at 7.00am.  \nDue to limited availability\, tours are only available to those that have sat the 11+ examination this year and secured a score of at least 303. If you receive your score after the booking system has opened and no longer meet the criteria for admissions\, you can email admissions@shsg.org to cancel your booking. \nIf the tour you are interested in is fully booked\, please consider attending our evening talk – more information can be found ‘here‘. \nCLICK HERE FOR POST 11+ TOURS BOOKING SYSTEM
URL:https://www.shsg.org/event/year-6-post-11-tours-2025/
CATEGORIES:Autumn Term,Featured Event,Parents’ Information,School Event
ATTACH;FMTTYPE=image/jpeg:https://www.shsg.org/wp-content/uploads/2024/08/southend-5305-scaled.jpg
END:VEVENT
BEGIN:VEVENT
DTSTART;TZID=Europe/London:20251016T180000
DTEND;TZID=Europe/London:20251016T190000
DTSTAMP:20260424T033344
CREATED:20250818T114435Z
LAST-MODIFIED:20251009T201659Z
UID:9323-1760637600-1760641200@www.shsg.org
SUMMARY:Year 6 Post 11+ Talk - Booking Required
DESCRIPTION:This evening will be for parents that have a Year 6 child that has secured a score of 303 or more in the 11+ examination. Whilst we welcome children to attend\, this talk from our Deputy Headteacher is mainly aimed at parents. During the talk the admissions process will also be explained to parents. \nDue to popularity – parents will need to book for this event on the booking link below. The booking system will go live on Monday 13th October 2025 at 6.00pm. \nPlease note that there will be no tours available on the evening of the talk. Tours will be taking place daily at 10.15am and 1.45pm from Friday 17th October 2025 until Thursday 23rd October 2025 and can be booked by following the instructions ‘here‘ from Tuesday 14th October 2025 at 7.00am. \nPlease only book tickets for your own family. If you receive your score after the booking system has opened and no longer meet the criteria for admissions\, you can email admissions@shsg.org to cancel your booking. \nCLICK HERE FOR POST 11+ TALK BOOKING SYSTEM
URL:https://www.shsg.org/event/year-6-post-11-talk-2025/
CATEGORIES:Autumn Term,Featured Event,Parents’ Information,School Event
ATTACH;FMTTYPE=image/jpeg:https://www.shsg.org/wp-content/uploads/2021/09/Southend-High-School-Exports_-2-scaled.jpg
END:VEVENT
BEGIN:VEVENT
DTSTART;VALUE=DATE:20251015
DTEND;VALUE=DATE:20251016
DTSTAMP:20260424T033344
CREATED:20250818T114007Z
LAST-MODIFIED:20250818T114007Z
UID:9321-1760486400-1760572799@www.shsg.org
SUMMARY:Sports Awards Evening
DESCRIPTION:
URL:https://www.shsg.org/event/sports-awards-evening-2025/
LOCATION:Southend High School for Girls\, Southend High School for Girls\, Southend\, Southend-on-sea\, SS2 4UZ\, United Kingdom
CATEGORIES:Autumn Term,School Event
ATTACH;FMTTYPE=image/jpeg:https://www.shsg.org/wp-content/uploads/2021/07/R4A6634-1-scaled.jpg
ORGANIZER;CN="Southend High School for Girls":MAILTO:office@shsg.org
END:VEVENT
BEGIN:VEVENT
DTSTART;VALUE=DATE:20251015
DTEND;VALUE=DATE:20251016
DTSTAMP:20260424T033344
CREATED:20250818T113827Z
LAST-MODIFIED:20250818T113827Z
UID:9319-1760486400-1760572799@www.shsg.org
SUMMARY:Year 12 UCAS and Apprenticeship Fair
DESCRIPTION:
URL:https://www.shsg.org/event/year-12-ucas-and-apprenticeship-fair-2025/
CATEGORIES:Autumn Term,Parents’ Information,School Event,Trips & Visits
ATTACH;FMTTYPE=image/jpeg:https://www.shsg.org/wp-content/uploads/2022/05/UCAS.jpg
END:VEVENT
END:VCALENDAR