BEGIN:VCALENDAR
VERSION:2.0
PRODID:-//Southend High School for Girls - ECPv6.15.20//NONSGML v1.0//EN
CALSCALE:GREGORIAN
METHOD:PUBLISH
X-WR-CALNAME:Southend High School for Girls
X-ORIGINAL-URL:https://www.shsg.org
X-WR-CALDESC:Events for Southend High School for Girls
REFRESH-INTERVAL;VALUE=DURATION:PT1H
X-Robots-Tag:noindex
X-PUBLISHED-TTL:PT1H
BEGIN:VTIMEZONE
TZID:Europe/London
BEGIN:DAYLIGHT
TZOFFSETFROM:+0000
TZOFFSETTO:+0100
TZNAME:BST
DTSTART:20250330T010000
END:DAYLIGHT
BEGIN:STANDARD
TZOFFSETFROM:+0100
TZOFFSETTO:+0000
TZNAME:GMT
DTSTART:20251026T010000
END:STANDARD
BEGIN:DAYLIGHT
TZOFFSETFROM:+0000
TZOFFSETTO:+0100
TZNAME:BST
DTSTART:20260329T010000
END:DAYLIGHT
BEGIN:STANDARD
TZOFFSETFROM:+0100
TZOFFSETTO:+0000
TZNAME:GMT
DTSTART:20261025T010000
END:STANDARD
BEGIN:DAYLIGHT
TZOFFSETFROM:+0000
TZOFFSETTO:+0100
TZNAME:BST
DTSTART:20270328T010000
END:DAYLIGHT
BEGIN:STANDARD
TZOFFSETFROM:+0100
TZOFFSETTO:+0000
TZNAME:GMT
DTSTART:20271031T010000
END:STANDARD
END:VTIMEZONE
BEGIN:VEVENT
DTSTART;VALUE=DATE:20260427
DTEND;VALUE=DATE:20260502
DTSTAMP:20260424T003955
CREATED:20260317T125930Z
LAST-MODIFIED:20260317T125930Z
UID:9680-1777248000-1777679999@www.shsg.org
SUMMARY:Science Week
DESCRIPTION:
URL:https://www.shsg.org/event/science-week-2026/
CATEGORIES:School Event,Summer Term
ATTACH;FMTTYPE=image/png:https://www.shsg.org/wp-content/uploads/2022/03/science.png
END:VEVENT
BEGIN:VEVENT
DTSTART;VALUE=DATE:20260506
DTEND;VALUE=DATE:20260507
DTSTAMP:20260424T003955
CREATED:20260317T131237Z
LAST-MODIFIED:20260317T131237Z
UID:9682-1778025600-1778111999@www.shsg.org
SUMMARY:Year 11 - End of Key Stage Celebrations
DESCRIPTION:
URL:https://www.shsg.org/event/year-11-end-of-ks-2026/
CATEGORIES:Key Dates,Parents’ Information,School Event,Summer Term
ATTACH;FMTTYPE=image/png:https://www.shsg.org/wp-content/uploads/End-of-School-Year-Celebration-Presentation-in-Teal-Pink-and-White-Vibrant-Style-scaled.png
END:VEVENT
BEGIN:VEVENT
DTSTART;VALUE=DATE:20260508
DTEND;VALUE=DATE:20260509
DTSTAMP:20260424T003955
CREATED:20260317T131735Z
LAST-MODIFIED:20260317T131735Z
UID:9684-1778198400-1778284799@www.shsg.org
SUMMARY:Year 13 - End of Key Stage Celebrations
DESCRIPTION:
URL:https://www.shsg.org/event/year-13-end-of-ks-celebrations-2026/
CATEGORIES:Key Dates,Parents’ Information,School Event,Summer Term
ATTACH;FMTTYPE=image/png:https://www.shsg.org/wp-content/uploads/End-of-School-Year-Celebration-Presentation-in-Teal-Pink-and-White-Vibrant-Style-1-scaled.png
END:VEVENT
BEGIN:VEVENT
DTSTART;VALUE=DATE:20260515
DTEND;VALUE=DATE:20260516
DTSTAMP:20260424T003955
CREATED:20260317T132644Z
LAST-MODIFIED:20260317T132644Z
UID:9688-1778803200-1778889599@www.shsg.org
SUMMARY:Year 10 & 12 - Meducators
DESCRIPTION:
URL:https://www.shsg.org/event/year-10-12-meducators-2026/
CATEGORIES:Parents’ Information,School Event,Summer Term
ATTACH;FMTTYPE=image/png:https://www.shsg.org/wp-content/uploads/Group-2147209531new.png
END:VEVENT
BEGIN:VEVENT
DTSTART;VALUE=DATE:20260603
DTEND;VALUE=DATE:20260604
DTSTAMP:20260424T003955
CREATED:20260317T133249Z
LAST-MODIFIED:20260317T133249Z
UID:9693-1780444800-1780531199@www.shsg.org
SUMMARY:New Year 7 Parents' Evening - 2026 Cohort
DESCRIPTION:
URL:https://www.shsg.org/event/new-year-7-parents-evening-2026/
CATEGORIES:Key Dates,Parents Evening,Parents’ Information,School Event,Summer Term
ATTACH;FMTTYPE=image/jpeg:https://www.shsg.org/wp-content/uploads/2021/08/R4A5535-1-scaled.jpg
END:VEVENT
BEGIN:VEVENT
DTSTART;VALUE=DATE:20260606
DTEND;VALUE=DATE:20260609
DTSTAMP:20260424T003955
CREATED:20260119T132259Z
LAST-MODIFIED:20260119T132259Z
UID:9639-1780704000-1780963199@www.shsg.org
SUMMARY:Year 10 - Silver DofE Practice
DESCRIPTION:
URL:https://www.shsg.org/event/year-10-silver-dofe-practice-2026/
CATEGORIES:Parents’ Information,School Event,Summer Term
ATTACH;FMTTYPE=image/jpeg:https://www.shsg.org/wp-content/uploads/2023/11/DofE-Silver.jpg
END:VEVENT
BEGIN:VEVENT
DTSTART;VALUE=DATE:20260608
DTEND;VALUE=DATE:20260613
DTSTAMP:20260424T003955
CREATED:20260317T133936Z
LAST-MODIFIED:20260317T133936Z
UID:9694-1780876800-1781308799@www.shsg.org
SUMMARY:CPA Create Week
DESCRIPTION:
URL:https://www.shsg.org/event/cpa-create-week-2026/
CATEGORIES:Parents’ Information,School Event,Summer Term
ATTACH;FMTTYPE=image/png:https://www.shsg.org/wp-content/uploads/IMG_1275.png
END:VEVENT
BEGIN:VEVENT
DTSTART;VALUE=DATE:20260615
DTEND;VALUE=DATE:20260619
DTSTAMP:20260424T003955
CREATED:20260317T134536Z
LAST-MODIFIED:20260317T134536Z
UID:9699-1781481600-1781827199@www.shsg.org
SUMMARY:Year 7 - Meet the Tutor
DESCRIPTION:
URL:https://www.shsg.org/event/year-7-meet-the-tutor-2026/
CATEGORIES:Parents’ Information,School Event,Summer Term
ATTACH;FMTTYPE=image/jpeg:https://www.shsg.org/wp-content/uploads/2021/09/Southend-High-School-Exports_-2-scaled.jpg
END:VEVENT
BEGIN:VEVENT
DTSTART;VALUE=DATE:20260622
DTEND;VALUE=DATE:20260625
DTSTAMP:20260424T003955
CREATED:20260317T134729Z
LAST-MODIFIED:20260317T134729Z
UID:9700-1782086400-1782345599@www.shsg.org
SUMMARY:Year 7 – Meet the Tutor
DESCRIPTION:
URL:https://www.shsg.org/event/year-7-meet-the-tutor-2026-2/
CATEGORIES:Parents’ Information,School Event,Summer Term
ATTACH;FMTTYPE=image/jpeg:https://www.shsg.org/wp-content/uploads/2021/09/Southend-High-School-Exports_-2-scaled.jpg
END:VEVENT
BEGIN:VEVENT
DTSTART;VALUE=DATE:20260629
DTEND;VALUE=DATE:20260701
DTSTAMP:20260424T003955
CREATED:20260317T135057Z
LAST-MODIFIED:20260319T101227Z
UID:9702-1782691200-1782863999@www.shsg.org
SUMMARY:Sixth Form Offer Holder Day
DESCRIPTION:
URL:https://www.shsg.org/event/sixth-form-offer-holder-day-2026/
CATEGORIES:Exams Information,Parents’ Information,School Event,Summer Term
ATTACH;FMTTYPE=image/jpeg:https://www.shsg.org/wp-content/uploads/2021/09/Southend-High-School-Exports_-2-scaled.jpg
END:VEVENT
BEGIN:VEVENT
DTSTART;TZID=Europe/London:20260630T183000
DTEND;TZID=Europe/London:20260630T230000
DTSTAMP:20260424T003955
CREATED:20260319T095614Z
LAST-MODIFIED:20260319T095614Z
UID:9707-1782844200-1782860400@www.shsg.org
SUMMARY:Year 13 - Prom
DESCRIPTION:
URL:https://www.shsg.org/event/year-13-prom-2026/
CATEGORIES:Parents’ Information,School Event,Summer Term
ATTACH;FMTTYPE=image/png:https://www.shsg.org/wp-content/uploads/Prom-Night-scaled.png
END:VEVENT
BEGIN:VEVENT
DTSTART;TZID=Europe/London:20260702T170000
DTEND;TZID=Europe/London:20260702T200000
DTSTAMP:20260424T003955
CREATED:20260317T135220Z
LAST-MODIFIED:20260422T140424Z
UID:9703-1783011600-1783022400@www.shsg.org
SUMMARY:Year 5 - Open Evening
DESCRIPTION:Our prospectus will be available to view ‘here’
URL:https://www.shsg.org/event/year-5-open-evening-2026/
LOCATION:Southend High School for Girls\, Southend High School for Girls\, Southend\, Southend-on-sea\, SS2 4UZ\, United Kingdom
CATEGORIES:Featured Event,Key Dates,Open Event,Parents’ Information,School Event,Summer Term
ATTACH;FMTTYPE=application/pdf:https://www.shsg.org/wp-content/uploads/SHSG-ECHO-HALF-PAGE-YR-5-OPEN-EVENING-2026-AD-FINAL-1.pdf
END:VEVENT
BEGIN:VEVENT
DTSTART;VALUE=DATE:20260706
DTEND;VALUE=DATE:20260707
DTSTAMP:20260424T003955
CREATED:20260319T101322Z
LAST-MODIFIED:20260319T101322Z
UID:9709-1783296000-1783382399@www.shsg.org
SUMMARY:Sixth Form Non-Offer Holder Day
DESCRIPTION:
URL:https://www.shsg.org/event/sixth-form-non-offer-holder-day-2026/
CATEGORIES:Parents’ Information,School Event,Summer Term
ATTACH;FMTTYPE=image/jpeg:https://www.shsg.org/wp-content/uploads/2021/09/Southend-High-School-Exports_-2-scaled.jpg
END:VEVENT
BEGIN:VEVENT
DTSTART;VALUE=DATE:20260706
DTEND;VALUE=DATE:20260711
DTSTAMP:20260424T003955
CREATED:20260319T101534Z
LAST-MODIFIED:20260319T101534Z
UID:9710-1783296000-1783727999@www.shsg.org
SUMMARY:Year 5 Tours
DESCRIPTION:Details and booking information TBC
URL:https://www.shsg.org/event/year-5-tours-2026/
CATEGORIES:Key Dates,Parents’ Information,School Event,Summer Term
ATTACH;FMTTYPE=image/jpeg:https://www.shsg.org/wp-content/uploads/2023/06/Photograph-of-school.jpg
END:VEVENT
BEGIN:VEVENT
DTSTART;TZID=Europe/London:20260706T180000
DTEND;TZID=Europe/London:20260706T210000
DTSTAMP:20260424T003955
CREATED:20260319T101637Z
LAST-MODIFIED:20260319T101637Z
UID:9711-1783360800-1783371600@www.shsg.org
SUMMARY:Year 11 - Prom
DESCRIPTION:
URL:https://www.shsg.org/event/year-11-prom/
CATEGORIES:Parents’ Information,School Event,Summer Term
ATTACH;FMTTYPE=image/png:https://www.shsg.org/wp-content/uploads/Prom-Night-scaled.png
END:VEVENT
BEGIN:VEVENT
DTSTART;VALUE=DATE:20260715
DTEND;VALUE=DATE:20260716
DTSTAMP:20260424T003955
CREATED:20260319T101832Z
LAST-MODIFIED:20260319T101832Z
UID:9712-1784073600-1784159999@www.shsg.org
SUMMARY:Sports Day
DESCRIPTION:
URL:https://www.shsg.org/event/sports-day-2026/
CATEGORIES:Parents’ Information,School Event,Summer Term
ATTACH;FMTTYPE=image/jpeg:https://www.shsg.org/wp-content/uploads/2021/08/R4A6574-scaled-e1637180550924.jpg
END:VEVENT
END:VCALENDAR