BEGIN:VCALENDAR
VERSION:2.0
PRODID:-//Southend High School for Girls - ECPv6.15.20//NONSGML v1.0//EN
CALSCALE:GREGORIAN
METHOD:PUBLISH
X-ORIGINAL-URL:https://www.shsg.org
X-WR-CALDESC:Events for Southend High School for Girls
REFRESH-INTERVAL;VALUE=DURATION:PT1H
X-Robots-Tag:noindex
X-PUBLISHED-TTL:PT1H
BEGIN:VTIMEZONE
TZID:Europe/London
BEGIN:DAYLIGHT
TZOFFSETFROM:+0000
TZOFFSETTO:+0100
TZNAME:BST
DTSTART:20250330T010000
END:DAYLIGHT
BEGIN:STANDARD
TZOFFSETFROM:+0100
TZOFFSETTO:+0000
TZNAME:GMT
DTSTART:20251026T010000
END:STANDARD
BEGIN:DAYLIGHT
TZOFFSETFROM:+0000
TZOFFSETTO:+0100
TZNAME:BST
DTSTART:20260329T010000
END:DAYLIGHT
BEGIN:STANDARD
TZOFFSETFROM:+0100
TZOFFSETTO:+0000
TZNAME:GMT
DTSTART:20261025T010000
END:STANDARD
BEGIN:DAYLIGHT
TZOFFSETFROM:+0000
TZOFFSETTO:+0100
TZNAME:BST
DTSTART:20270328T010000
END:DAYLIGHT
BEGIN:STANDARD
TZOFFSETFROM:+0100
TZOFFSETTO:+0000
TZNAME:GMT
DTSTART:20271031T010000
END:STANDARD
END:VTIMEZONE
BEGIN:VEVENT
DTSTART;VALUE=DATE:20260413
DTEND;VALUE=DATE:20260425
DTSTAMP:20260424T004602
CREATED:20260119T115754Z
LAST-MODIFIED:20260119T115754Z
UID:9629-1776038400-1777075199@www.shsg.org
SUMMARY:Year 10 - PPEs
DESCRIPTION:
URL:https://www.shsg.org/event/year-10-ppes-2026/
CATEGORIES:Exams Information,Parents’ Information,Summer Term
ATTACH;FMTTYPE=image/jpeg:https://www.shsg.org/wp-content/uploads/2021/08/R4A6114-scaled.jpg
END:VEVENT
BEGIN:VEVENT
DTSTART;VALUE=DATE:20260413
DTEND;VALUE=DATE:20260425
DTSTAMP:20260424T004602
CREATED:20260119T115901Z
LAST-MODIFIED:20260119T115901Z
UID:9630-1776038400-1777075199@www.shsg.org
SUMMARY:Year 12 - PPEs
DESCRIPTION:
URL:https://www.shsg.org/event/year-12-ppes-2026/
CATEGORIES:Exams Information,Parents’ Information,Summer Term
ATTACH;FMTTYPE=image/jpeg:https://www.shsg.org/wp-content/uploads/2021/08/R4A6114-scaled.jpg
END:VEVENT
BEGIN:VEVENT
DTSTART;VALUE=DATE:20260423
DTEND;VALUE=DATE:20260428
DTSTAMP:20260424T004602
CREATED:20260119T120643Z
LAST-MODIFIED:20260317T125604Z
UID:9631-1776902400-1777334399@www.shsg.org
SUMMARY:Year 13 - Art Exam
DESCRIPTION:
URL:https://www.shsg.org/event/year-13-art-exam-2026/
CATEGORIES:Exams Information,Parents’ Information,Summer Term
ATTACH;FMTTYPE=image/jpeg:https://www.shsg.org/wp-content/uploads/2021/08/R4A7074-1-scaled.jpg
END:VEVENT
BEGIN:VEVENT
DTSTART;VALUE=DATE:20260427
DTEND;VALUE=DATE:20260502
DTSTAMP:20260424T004602
CREATED:20260317T125832Z
LAST-MODIFIED:20260317T125832Z
UID:9679-1777248000-1777679999@www.shsg.org
SUMMARY:Year 11 - MFL Speaking GCSE
DESCRIPTION:
URL:https://www.shsg.org/event/year-11-mfl-speaking-gcse-2026/
CATEGORIES:Exams Information,Parents’ Information,Summer Term
ATTACH;FMTTYPE=image/jpeg:https://www.shsg.org/wp-content/uploads/2022/05/MFL.jpg
END:VEVENT
BEGIN:VEVENT
DTSTART;VALUE=DATE:20260427
DTEND;VALUE=DATE:20260502
DTSTAMP:20260424T004602
CREATED:20260317T125930Z
LAST-MODIFIED:20260317T125930Z
UID:9680-1777248000-1777679999@www.shsg.org
SUMMARY:Science Week
DESCRIPTION:
URL:https://www.shsg.org/event/science-week-2026/
CATEGORIES:School Event,Summer Term
ATTACH;FMTTYPE=image/png:https://www.shsg.org/wp-content/uploads/2022/03/science.png
END:VEVENT
BEGIN:VEVENT
DTSTART;VALUE=DATE:20260504
DTEND;VALUE=DATE:20260505
DTSTAMP:20260424T004602
CREATED:20260317T130052Z
LAST-MODIFIED:20260317T130052Z
UID:9681-1777852800-1777939199@www.shsg.org
SUMMARY:Early May Bank Holiday
DESCRIPTION:
URL:https://www.shsg.org/event/early-may-bank-holiday-2026/
CATEGORIES:Parents’ Information,Summer Term
ATTACH;FMTTYPE=image/jpeg:https://www.shsg.org/wp-content/uploads/2022/04/bank-holiday.jpg
END:VEVENT
BEGIN:VEVENT
DTSTART;VALUE=DATE:20260505
DTEND;VALUE=DATE:20260510
DTSTAMP:20260424T004602
CREATED:20260119T121101Z
LAST-MODIFIED:20260119T121101Z
UID:9632-1777939200-1778371199@www.shsg.org
SUMMARY:Year 10 - Vienna Residential
DESCRIPTION:
URL:https://www.shsg.org/event/year-10-vienna-residential-2026/
CATEGORIES:Parents’ Information,Summer Term,Trips & Visits
ATTACH;FMTTYPE=image/png:https://www.shsg.org/wp-content/uploads/Vienna.png
END:VEVENT
BEGIN:VEVENT
DTSTART;VALUE=DATE:20260506
DTEND;VALUE=DATE:20260507
DTSTAMP:20260424T004602
CREATED:20260317T131237Z
LAST-MODIFIED:20260317T131237Z
UID:9682-1778025600-1778111999@www.shsg.org
SUMMARY:Year 11 - End of Key Stage Celebrations
DESCRIPTION:
URL:https://www.shsg.org/event/year-11-end-of-ks-2026/
CATEGORIES:Key Dates,Parents’ Information,School Event,Summer Term
ATTACH;FMTTYPE=image/png:https://www.shsg.org/wp-content/uploads/End-of-School-Year-Celebration-Presentation-in-Teal-Pink-and-White-Vibrant-Style-scaled.png
END:VEVENT
BEGIN:VEVENT
DTSTART;VALUE=DATE:20260508
DTEND;VALUE=DATE:20260509
DTSTAMP:20260424T004602
CREATED:20260317T131735Z
LAST-MODIFIED:20260317T131735Z
UID:9684-1778198400-1778284799@www.shsg.org
SUMMARY:Year 13 - End of Key Stage Celebrations
DESCRIPTION:
URL:https://www.shsg.org/event/year-13-end-of-ks-celebrations-2026/
CATEGORIES:Key Dates,Parents’ Information,School Event,Summer Term
ATTACH;FMTTYPE=image/png:https://www.shsg.org/wp-content/uploads/End-of-School-Year-Celebration-Presentation-in-Teal-Pink-and-White-Vibrant-Style-1-scaled.png
END:VEVENT
BEGIN:VEVENT
DTSTART;VALUE=DATE:20260509
DTEND;VALUE=DATE:20260511
DTSTAMP:20260424T004602
CREATED:20260119T124727Z
LAST-MODIFIED:20260119T124727Z
UID:9634-1778284800-1778457599@www.shsg.org
SUMMARY:Year 9 - DofE Bronze
DESCRIPTION:
URL:https://www.shsg.org/event/year-9-dofe-bronze-2026/
CATEGORIES:Key Dates,Parents’ Information,Summer Term,Trips & Visits
ATTACH;FMTTYPE=image/jpeg:https://www.shsg.org/wp-content/uploads/2024/08/DofE-Bronze.jpg
END:VEVENT
BEGIN:VEVENT
DTSTART;VALUE=DATE:20260511
DTEND;VALUE=DATE:20260514
DTSTAMP:20260424T004602
CREATED:20260317T131847Z
LAST-MODIFIED:20260317T131847Z
UID:9686-1778457600-1778716799@www.shsg.org
SUMMARY:Year 10 - Food Tech NEA Practice
DESCRIPTION:
URL:https://www.shsg.org/event/year-10-food-tech-nea-practice-2026/
CATEGORIES:Exams Information,Parents’ Information,Summer Term
ATTACH;FMTTYPE=image/jpeg:https://www.shsg.org/wp-content/uploads/2021/08/Southend-High-School-Exports_-351-scaled.jpg
END:VEVENT
BEGIN:VEVENT
DTSTART;VALUE=DATE:20260512
DTEND;VALUE=DATE:20260514
DTSTAMP:20260424T004602
CREATED:20260317T132428Z
LAST-MODIFIED:20260317T132428Z
UID:9687-1778544000-1778716799@www.shsg.org
SUMMARY:Year 8 - Globalisation Geography Trip
DESCRIPTION:
URL:https://www.shsg.org/event/year-8-globalisation-geography-trip-2026/
CATEGORIES:Key Dates,Parents’ Information,Summer Term,Trips & Visits
ATTACH;FMTTYPE=image/jpeg:https://www.shsg.org/wp-content/uploads/2021/07/Southend-High-School-Exports_-276-scaled.jpg
END:VEVENT
BEGIN:VEVENT
DTSTART;VALUE=DATE:20260515
DTEND;VALUE=DATE:20260516
DTSTAMP:20260424T004602
CREATED:20260317T132644Z
LAST-MODIFIED:20260317T132644Z
UID:9688-1778803200-1778889599@www.shsg.org
SUMMARY:Year 10 & 12 - Meducators
DESCRIPTION:
URL:https://www.shsg.org/event/year-10-12-meducators-2026/
CATEGORIES:Parents’ Information,School Event,Summer Term
ATTACH;FMTTYPE=image/png:https://www.shsg.org/wp-content/uploads/Group-2147209531new.png
END:VEVENT
BEGIN:VEVENT
DTSTART;VALUE=DATE:20260520
DTEND;VALUE=DATE:20260521
DTSTAMP:20260424T004602
CREATED:20260317T133024Z
LAST-MODIFIED:20260317T133024Z
UID:9690-1779235200-1779321599@www.shsg.org
SUMMARY:Year 10 - Kew Gardens Trip
DESCRIPTION:
URL:https://www.shsg.org/event/year-10-kew-gardens-trip-2026/
CATEGORIES:Key Dates,Parents’ Information,Summer Term,Trips & Visits
ATTACH;FMTTYPE=image/jpeg:https://www.shsg.org/wp-content/uploads/Kew-Gardens-HERO.jpg
END:VEVENT
BEGIN:VEVENT
DTSTART;VALUE=DATE:20260523
DTEND;VALUE=DATE:20260601
DTSTAMP:20260424T004602
CREATED:20260119T125017Z
LAST-MODIFIED:20260119T125017Z
UID:9635-1779494400-1780271999@www.shsg.org
SUMMARY:Years 10 & 12 - STEM Visit to Shanghai
DESCRIPTION:
URL:https://www.shsg.org/event/years-10-12-stem-visit-to-shanghai-2026/
CATEGORIES:Parents’ Information,Summer Term,Trips & Visits
ATTACH;FMTTYPE=image/jpeg:https://www.shsg.org/wp-content/uploads/Shanghai_pudong_skyline-scaled.jpg
END:VEVENT
BEGIN:VEVENT
DTSTART;VALUE=DATE:20260525
DTEND;VALUE=DATE:20260530
DTSTAMP:20260424T004602
CREATED:20260119T121622Z
LAST-MODIFIED:20260119T121622Z
UID:9633-1779667200-1780099199@www.shsg.org
SUMMARY:Summer Half Term
DESCRIPTION:
URL:https://www.shsg.org/event/summer-half-term-2026/
CATEGORIES:Key Dates,Parents’ Information,Summer Term
ATTACH;FMTTYPE=image/jpeg:https://www.shsg.org/wp-content/uploads/2021/07/ethan-robertson-SYx3UCHZJlo-unsplash-scaled.jpg
END:VEVENT
BEGIN:VEVENT
DTSTART;VALUE=DATE:20260601
DTEND;VALUE=DATE:20260606
DTSTAMP:20260424T004602
CREATED:20260317T133136Z
LAST-MODIFIED:20260317T133136Z
UID:9692-1780272000-1780703999@www.shsg.org
SUMMARY:Years 7 - 9 - End of Year Exams
DESCRIPTION:
URL:https://www.shsg.org/event/years-7-9-end-of-year-exams-2026/
CATEGORIES:Exams Information,Parents’ Information,Summer Term
ATTACH;FMTTYPE=image/jpeg:https://www.shsg.org/wp-content/uploads/2021/08/R4A6114-scaled.jpg
END:VEVENT
BEGIN:VEVENT
DTSTART;VALUE=DATE:20260603
DTEND;VALUE=DATE:20260604
DTSTAMP:20260424T004602
CREATED:20260317T133249Z
LAST-MODIFIED:20260317T133249Z
UID:9693-1780444800-1780531199@www.shsg.org
SUMMARY:New Year 7 Parents' Evening - 2026 Cohort
DESCRIPTION:
URL:https://www.shsg.org/event/new-year-7-parents-evening-2026/
CATEGORIES:Key Dates,Parents Evening,Parents’ Information,School Event,Summer Term
ATTACH;FMTTYPE=image/jpeg:https://www.shsg.org/wp-content/uploads/2021/08/R4A5535-1-scaled.jpg
END:VEVENT
BEGIN:VEVENT
DTSTART;VALUE=DATE:20260605
DTEND;VALUE=DATE:20260606
DTSTAMP:20260424T004602
CREATED:20260119T131204Z
LAST-MODIFIED:20260119T131204Z
UID:9638-1780617600-1780703999@www.shsg.org
SUMMARY:Year 12 - British Museum Trip
DESCRIPTION:
URL:https://www.shsg.org/event/year-12-british-museum-trip-2026/
CATEGORIES:Key Dates,Parents’ Information,Summer Term,Trips & Visits
ATTACH;FMTTYPE=image/jpeg:https://www.shsg.org/wp-content/uploads/2024/05/British-Museum.jpg
END:VEVENT
BEGIN:VEVENT
DTSTART;VALUE=DATE:20260606
DTEND;VALUE=DATE:20260609
DTSTAMP:20260424T004602
CREATED:20260119T132259Z
LAST-MODIFIED:20260119T132259Z
UID:9639-1780704000-1780963199@www.shsg.org
SUMMARY:Year 10 - Silver DofE Practice
DESCRIPTION:
URL:https://www.shsg.org/event/year-10-silver-dofe-practice-2026/
CATEGORIES:Parents’ Information,School Event,Summer Term
ATTACH;FMTTYPE=image/jpeg:https://www.shsg.org/wp-content/uploads/2023/11/DofE-Silver.jpg
END:VEVENT
BEGIN:VEVENT
DTSTART;VALUE=DATE:20260608
DTEND;VALUE=DATE:20260613
DTSTAMP:20260424T004602
CREATED:20260317T133936Z
LAST-MODIFIED:20260317T133936Z
UID:9694-1780876800-1781308799@www.shsg.org
SUMMARY:CPA Create Week
DESCRIPTION:
URL:https://www.shsg.org/event/cpa-create-week-2026/
CATEGORIES:Parents’ Information,School Event,Summer Term
ATTACH;FMTTYPE=image/png:https://www.shsg.org/wp-content/uploads/IMG_1275.png
END:VEVENT
BEGIN:VEVENT
DTSTART;VALUE=DATE:20260609
DTEND;VALUE=DATE:20260614
DTSTAMP:20260424T004602
CREATED:20260119T132421Z
LAST-MODIFIED:20260119T132421Z
UID:9640-1780963200-1781395199@www.shsg.org
SUMMARY:Year 8 - Rhineland Residential
DESCRIPTION:
URL:https://www.shsg.org/event/year-8-rhineland-trip-2026/
CATEGORIES:Key Dates,Parents’ Information,Summer Term,Trips & Visits
ATTACH;FMTTYPE=image/jpeg:https://www.shsg.org/wp-content/uploads/2024/08/Rhineland.jpg
END:VEVENT
BEGIN:VEVENT
DTSTART;VALUE=DATE:20260610
DTEND;VALUE=DATE:20260611
DTSTAMP:20260424T004602
CREATED:20260119T132740Z
LAST-MODIFIED:20260119T132740Z
UID:9641-1781049600-1781135999@www.shsg.org
SUMMARY:Year 7 - Mountfitchet Castle Trip
DESCRIPTION:
URL:https://www.shsg.org/event/year-7-mountfitchet-history-trip-2026/
CATEGORIES:Parents’ Information,Summer Term,Trips & Visits
ATTACH;FMTTYPE=image/jpeg:https://www.shsg.org/wp-content/uploads/2022/06/year-7-mountfitchet-trip-1.jpg
END:VEVENT
BEGIN:VEVENT
DTSTART;VALUE=DATE:20260611
DTEND;VALUE=DATE:20260612
DTSTAMP:20260424T004602
CREATED:20260317T134046Z
LAST-MODIFIED:20260317T134046Z
UID:9696-1781136000-1781222399@www.shsg.org
SUMMARY:Year 10 - Parents' Evening
DESCRIPTION:
URL:https://www.shsg.org/event/year-10-parents-evening-2026/
CATEGORIES:Parents Evening,Parents’ Information,Summer Term
ATTACH;FMTTYPE=image/jpeg:https://www.shsg.org/wp-content/uploads/2022/09/SHSG-FINAL-BLAZER-RETOUCH-FADE-4-WEBSITE-SML-e1706306721686.jpg
END:VEVENT
BEGIN:VEVENT
DTSTART;VALUE=DATE:20260612
DTEND;VALUE=DATE:20260613
DTSTAMP:20260424T004602
CREATED:20260317T134311Z
LAST-MODIFIED:20260317T134311Z
UID:9697-1781222400-1781308799@www.shsg.org
SUMMARY:Year 12 - V&A and Design Museum Visit
DESCRIPTION:
URL:https://www.shsg.org/event/year-12-va-and-design-museum-visit-2026/
CATEGORIES:Parents’ Information,Summer Term,Trips & Visits
ATTACH;FMTTYPE=image/jpeg:https://www.shsg.org/wp-content/uploads/VA-Museum.jpg
END:VEVENT
BEGIN:VEVENT
DTSTART;VALUE=DATE:20260615
DTEND;VALUE=DATE:20260620
DTSTAMP:20260424T004602
CREATED:20260119T133351Z
LAST-MODIFIED:20260119T133351Z
UID:9644-1781481600-1781913599@www.shsg.org
SUMMARY:Year 12 - Work Experience
DESCRIPTION:
URL:https://www.shsg.org/event/year-12-work-experience-2026/
CATEGORIES:Key Dates,Parents’ Information,Summer Term
ATTACH;FMTTYPE=image/jpeg:https://www.shsg.org/wp-content/uploads/2022/09/SHSG-FINAL-BLAZER-RETOUCH-FADE-4-WEBSITE-SML-e1706306721686.jpg
END:VEVENT
BEGIN:VEVENT
DTSTART;VALUE=DATE:20260615
DTEND;VALUE=DATE:20260619
DTSTAMP:20260424T004602
CREATED:20260317T134536Z
LAST-MODIFIED:20260317T134536Z
UID:9699-1781481600-1781827199@www.shsg.org
SUMMARY:Year 7 - Meet the Tutor
DESCRIPTION:
URL:https://www.shsg.org/event/year-7-meet-the-tutor-2026/
CATEGORIES:Parents’ Information,School Event,Summer Term
ATTACH;FMTTYPE=image/jpeg:https://www.shsg.org/wp-content/uploads/2021/09/Southend-High-School-Exports_-2-scaled.jpg
END:VEVENT
BEGIN:VEVENT
DTSTART;VALUE=DATE:20260621
DTEND;VALUE=DATE:20260625
DTSTAMP:20260424T004602
CREATED:20260119T133249Z
LAST-MODIFIED:20260119T133249Z
UID:9642-1782000000-1782345599@www.shsg.org
SUMMARY:Year 8 - Valencia Trip
DESCRIPTION:
URL:https://www.shsg.org/event/year-8-valencia-trip-2026/
CATEGORIES:Parents’ Information,Summer Term,Trips & Visits
ATTACH;FMTTYPE=image/jpeg:https://www.shsg.org/wp-content/uploads/Valencia-scaled.jpeg
END:VEVENT
BEGIN:VEVENT
DTSTART;VALUE=DATE:20260622
DTEND;VALUE=DATE:20260625
DTSTAMP:20260424T004602
CREATED:20260317T134729Z
LAST-MODIFIED:20260317T134729Z
UID:9700-1782086400-1782345599@www.shsg.org
SUMMARY:Year 7 – Meet the Tutor
DESCRIPTION:
URL:https://www.shsg.org/event/year-7-meet-the-tutor-2026-2/
CATEGORIES:Parents’ Information,School Event,Summer Term
ATTACH;FMTTYPE=image/jpeg:https://www.shsg.org/wp-content/uploads/2021/09/Southend-High-School-Exports_-2-scaled.jpg
END:VEVENT
BEGIN:VEVENT
DTSTART;VALUE=DATE:20260623
DTEND;VALUE=DATE:20260626
DTSTAMP:20260424T004602
CREATED:20260317T134926Z
LAST-MODIFIED:20260317T134926Z
UID:9701-1782172800-1782431999@www.shsg.org
SUMMARY:Year 7 - Geography Biodiversity Trip
DESCRIPTION:
URL:https://www.shsg.org/event/year-7-geography-biodiversity-trip-2026/
CATEGORIES:Key Dates,Parents’ Information,Summer Term,Trips & Visits
ATTACH;FMTTYPE=image/jpeg:https://www.shsg.org/wp-content/uploads/2024/05/Southchurch-Park.jpg
END:VEVENT
END:VCALENDAR