BEGIN:VCALENDAR
VERSION:2.0
PRODID:-//Southend High School for Girls - ECPv6.15.20//NONSGML v1.0//EN
CALSCALE:GREGORIAN
METHOD:PUBLISH
X-WR-CALNAME:Southend High School for Girls
X-ORIGINAL-URL:https://www.shsg.org
X-WR-CALDESC:Events for Southend High School for Girls
REFRESH-INTERVAL;VALUE=DURATION:PT1H
X-Robots-Tag:noindex
X-PUBLISHED-TTL:PT1H
BEGIN:VTIMEZONE
TZID:Europe/London
BEGIN:DAYLIGHT
TZOFFSETFROM:+0000
TZOFFSETTO:+0100
TZNAME:BST
DTSTART:20230326T010000
END:DAYLIGHT
BEGIN:STANDARD
TZOFFSETFROM:+0100
TZOFFSETTO:+0000
TZNAME:GMT
DTSTART:20231029T010000
END:STANDARD
BEGIN:DAYLIGHT
TZOFFSETFROM:+0000
TZOFFSETTO:+0100
TZNAME:BST
DTSTART:20240331T010000
END:DAYLIGHT
BEGIN:STANDARD
TZOFFSETFROM:+0100
TZOFFSETTO:+0000
TZNAME:GMT
DTSTART:20241027T010000
END:STANDARD
BEGIN:DAYLIGHT
TZOFFSETFROM:+0000
TZOFFSETTO:+0100
TZNAME:BST
DTSTART:20250330T010000
END:DAYLIGHT
BEGIN:STANDARD
TZOFFSETFROM:+0100
TZOFFSETTO:+0000
TZNAME:GMT
DTSTART:20251026T010000
END:STANDARD
END:VTIMEZONE
BEGIN:VEVENT
DTSTART;VALUE=DATE:20241001
DTEND;VALUE=DATE:20241002
DTSTAMP:20260424T071819
CREATED:20240617T091724Z
LAST-MODIFIED:20240617T091724Z
UID:8377-1727740800-1727827199@www.shsg.org
SUMMARY:INSET DAY - School closed to students
DESCRIPTION:
URL:https://www.shsg.org/event/inset-day-school-closed-to-students-10-2024/
CATEGORIES:Autumn Term,Parents’ Information,School Event
ATTACH;FMTTYPE=image/webp:https://www.shsg.org/wp-content/uploads/2023/06/01Southend-Girls-School-SHSG-5_PRIMARY-PHOTO-1.webp
END:VEVENT
BEGIN:VEVENT
DTSTART;VALUE=DATE:20240926
DTEND;VALUE=DATE:20240927
DTSTAMP:20260424T071819
CREATED:20240815T092151Z
LAST-MODIFIED:20240815T092151Z
UID:8427-1727308800-1727395199@www.shsg.org
SUMMARY:Year 7 Parents' Consultation Evening
DESCRIPTION:
URL:https://www.shsg.org/event/year-7-parents-consultation-evening-2/
CATEGORIES:Autumn Term,Key Dates,Parents Evening,Parents’ Information
ATTACH;FMTTYPE=image/jpeg:https://www.shsg.org/wp-content/uploads/2022/07/SHSG-FINAL-BLAZER-RETOUCH-NO-FADE-SML-e1664129373859.jpg
END:VEVENT
BEGIN:VEVENT
DTSTART;TZID=Europe/London:20240925T183000
DTEND;TZID=Europe/London:20240925T193000
DTSTAMP:20260424T071819
CREATED:20240815T091857Z
LAST-MODIFIED:20240815T091857Z
UID:8426-1727289000-1727292600@www.shsg.org
SUMMARY:Year 10 - Welcome to GCSE
DESCRIPTION:
URL:https://www.shsg.org/event/year-10-introduction-to-gcse-2-3/
CATEGORIES:Autumn Term,Key Dates,Parents Evening,Parents’ Information
ATTACH;FMTTYPE=image/jpeg:https://www.shsg.org/wp-content/uploads/2022/07/SHSG-FINAL-BLAZER-RETOUCH-NO-FADE-SML-e1664129373859.jpg
END:VEVENT
BEGIN:VEVENT
DTSTART;TZID=Europe/London:20240919T183000
DTEND;TZID=Europe/London:20240919T193000
DTSTAMP:20260424T071819
CREATED:20220928T193620Z
LAST-MODIFIED:20240815T091528Z
UID:5560-1726770600-1726774200@www.shsg.org
SUMMARY:Year 7 Parents’ Welcome to Grammar School
DESCRIPTION:
URL:https://www.shsg.org/event/year-7-parents-welcome-to-grammar-school-2024/
LOCATION:Southend High School for Girls\, Southend High School for Girls\, Southend\, Southend-on-sea\, SS2 4UZ\, United Kingdom
CATEGORIES:Autumn Term,Key Dates,Parents Evening,Parents’ Information
ATTACH;FMTTYPE=image/jpeg:https://www.shsg.org/wp-content/uploads/2021/09/Southend-High-School-Exports_-2-scaled.jpg
ORGANIZER;CN="Southend High School for Girls":MAILTO:office@shsg.org
END:VEVENT
BEGIN:VEVENT
DTSTART;VALUE=DATE:20240919
DTEND;VALUE=DATE:20240920
DTSTAMP:20260424T071819
CREATED:20240815T120346Z
LAST-MODIFIED:20240815T120346Z
UID:8449-1726704000-1726790399@www.shsg.org
SUMMARY:St Omer Trip
DESCRIPTION:
URL:https://www.shsg.org/event/st-omer-trip-2024/
CATEGORIES:Autumn Term,Parents’ Information,Trips & Visits
END:VEVENT
BEGIN:VEVENT
DTSTART;TZID=Europe/London:20240918T180000
DTEND;TZID=Europe/London:20240918T190000
DTSTAMP:20260424T071819
CREATED:20240815T120115Z
LAST-MODIFIED:20240815T120115Z
UID:8448-1726682400-1726686000@www.shsg.org
SUMMARY:Year 12 Parents’ Introduction to A Level Evening
DESCRIPTION:
URL:https://www.shsg.org/event/year-12-parents-introduction-to-a-level-2024/
LOCATION:Southend High School for Girls\, Southend High School for Girls\, Southend\, Southend-on-sea\, SS2 4UZ\, United Kingdom
CATEGORIES:Autumn Term,Key Dates,Parents Evening,Parents’ Information
ATTACH;FMTTYPE=image/jpeg:https://www.shsg.org/wp-content/uploads/2021/07/Southend-High-School-Exports_-78-scaled.jpg
ORGANIZER;CN="Southend High School for Girls":MAILTO:office@shsg.org
END:VEVENT
BEGIN:VEVENT
DTSTART;VALUE=DATE:20240917
DTEND;VALUE=DATE:20240918
DTSTAMP:20260424T071819
CREATED:20240815T090137Z
LAST-MODIFIED:20240815T090137Z
UID:8424-1726531200-1726617599@www.shsg.org
SUMMARY:Culture Day
DESCRIPTION:
URL:https://www.shsg.org/event/culture-day/
CATEGORIES:Autumn Term,Key Dates,Parents’ Information,School Event
ATTACH;FMTTYPE=image/png:https://www.shsg.org/wp-content/uploads/2024/08/Culture-Day-17.09.24.png
END:VEVENT
BEGIN:VEVENT
DTSTART;VALUE=DATE:20240911
DTEND;VALUE=DATE:20240912
DTSTAMP:20260424T071819
CREATED:20240815T085430Z
LAST-MODIFIED:20240815T104100Z
UID:8423-1726012800-1726099199@www.shsg.org
SUMMARY:School Photographs for Years 7\, 10 & 12
DESCRIPTION:
URL:https://www.shsg.org/event/school-photographs-2024/
LOCATION:Southend High School for Girls\, Southend High School for Girls\, Southend\, Southend-on-sea\, SS2 4UZ\, United Kingdom
CATEGORIES:Featured Event,Key Dates,School Event
ATTACH;FMTTYPE=image/jpeg:https://www.shsg.org/wp-content/uploads/2021/08/Southend-High-School-Exports_-331-scaled.jpg
ORGANIZER;CN="Southend High School for Girls":MAILTO:office@shsg.org
END:VEVENT
BEGIN:VEVENT
DTSTART;VALUE=DATE:20240904
DTEND;VALUE=DATE:20240905
DTSTAMP:20260424T071819
CREATED:20240617T091633Z
LAST-MODIFIED:20240815T104035Z
UID:8376-1725408000-1725494399@www.shsg.org
SUMMARY:First Day for Students
DESCRIPTION:
URL:https://www.shsg.org/event/first-day-for-students-2024/
CATEGORIES:Autumn Term,Featured Event,Key Dates,Parents’ Information
ATTACH;FMTTYPE=image/jpeg:https://www.shsg.org/wp-content/uploads/2023/06/Photograph-of-school.jpg
END:VEVENT
BEGIN:VEVENT
DTSTART;VALUE=DATE:20240902
DTEND;VALUE=DATE:20240904
DTSTAMP:20260424T071819
CREATED:20240617T091508Z
LAST-MODIFIED:20240617T093351Z
UID:8375-1725235200-1725407999@www.shsg.org
SUMMARY:INSET DAY - School closed to students
DESCRIPTION:
URL:https://www.shsg.org/event/inset-day-school-closed-to-students-09-2024/
CATEGORIES:Autumn Term,Parents’ Information,School Event
ATTACH;FMTTYPE=image/webp:https://www.shsg.org/wp-content/uploads/2023/06/01Southend-Girls-School-SHSG-5_PRIMARY-PHOTO-1.webp
END:VEVENT
BEGIN:VEVENT
DTSTART;TZID=Europe/London:20240822T093000
DTEND;TZID=Europe/London:20240822T120000
DTSTAMP:20260424T071819
CREATED:20240815T085211Z
LAST-MODIFIED:20240815T085211Z
UID:8421-1724319000-1724328000@www.shsg.org
SUMMARY:GCSE Results Day
DESCRIPTION:
URL:https://www.shsg.org/event/gcse-results-day-2024/
LOCATION:Southend High School for Girls\, Southend High School for Girls\, Southend\, Southend-on-sea\, SS2 4UZ\, United Kingdom
CATEGORIES:Exams Information,Featured Event,Parents’ Information,School Event,Summer Term
ATTACH;FMTTYPE=image/png:https://www.shsg.org/wp-content/uploads/2021/08/Banner-LIAV2-HM2.png
ORGANIZER;CN="Southend High School for Girls":MAILTO:office@shsg.org
END:VEVENT
BEGIN:VEVENT
DTSTART;TZID=Europe/London:20240815T080000
DTEND;TZID=Europe/London:20240815T100000
DTSTAMP:20260424T071819
CREATED:20240815T085143Z
LAST-MODIFIED:20240815T085143Z
UID:8422-1723708800-1723716000@www.shsg.org
SUMMARY:A Level Results Day
DESCRIPTION:
URL:https://www.shsg.org/event/a-level-results-day-2024/
LOCATION:Southend High School for Girls\, Southend High School for Girls\, Southend\, Southend-on-sea\, SS2 4UZ\, United Kingdom
CATEGORIES:Exams Information,Featured Event,Parents’ Information,School Event,Summer Term
ATTACH;FMTTYPE=image/jpeg:https://www.shsg.org/wp-content/uploads/2021/07/Southend-High-School-Exports_-78-scaled.jpg
ORGANIZER;CN="Southend High School for Girls":MAILTO:office@shsg.org
END:VEVENT
BEGIN:VEVENT
DTSTART;VALUE=DATE:20240722
DTEND;VALUE=DATE:20240831
DTSTAMP:20260424T071819
CREATED:20231121T093906Z
LAST-MODIFIED:20240617T091330Z
UID:7921-1721606400-1725062399@www.shsg.org
SUMMARY:Summer School Holidays
DESCRIPTION:
URL:https://www.shsg.org/event/first-day-of-summer-holidays/
CATEGORIES:Key Dates,Parents’ Information,Summer Term
ATTACH;FMTTYPE=image/jpeg:https://www.shsg.org/wp-content/uploads/2021/07/ethan-robertson-SYx3UCHZJlo-unsplash-scaled.jpg
END:VEVENT
BEGIN:VEVENT
DTSTART;TZID=Europe/London:20240719T080000
DTEND;TZID=Europe/London:20240719T123000
DTSTAMP:20260424T071819
CREATED:20240617T091054Z
LAST-MODIFIED:20240617T091054Z
UID:8373-1721376000-1721392200@www.shsg.org
SUMMARY:Last Day for Students
DESCRIPTION:
URL:https://www.shsg.org/event/last-day-for-students-2024/
CATEGORIES:Parents’ Information,Summer Term
END:VEVENT
BEGIN:VEVENT
DTSTART;VALUE=DATE:20240715
DTEND;VALUE=DATE:20240716
DTSTAMP:20260424T071819
CREATED:20231121T220223Z
LAST-MODIFIED:20240508T092817Z
UID:7968-1721001600-1721087999@www.shsg.org
SUMMARY:Awards Evening
DESCRIPTION:
URL:https://www.shsg.org/event/awards-evening-2/
LOCATION:Palace Theatre – Westcliff-on-Sea
CATEGORIES:Featured Event,Key Dates,School Event,Summer Term
ATTACH;FMTTYPE=image/jpeg:https://www.shsg.org/wp-content/uploads/2021/08/R4A5698-1-scaled.jpg
END:VEVENT
BEGIN:VEVENT
DTSTART;VALUE=DATE:20240708
DTEND;VALUE=DATE:20240713
DTSTAMP:20260424T071819
CREATED:20240704T105548Z
LAST-MODIFIED:20240704T105447Z
UID:8366-1720396800-1720828799@www.shsg.org
SUMMARY:Year 5 School Tours
DESCRIPTION:Year 5 Tours will take place between Monday 8th July 2024 and Friday 12th July 2024. There are two sessions available each day; one in the morning\, and one in the afternoon.\nAll tours are bookable on a first come first served basis and by appointment only. Tours must be booked via our website (booking link below). \nThese tours are for Year 5 candidates that will be sitting the 11+ examinations this year and applying for secondary school places for September 2025. \nBooking will open on Friday 5th July at 6am.\nTo book a school tour\, please click on the link below: \nCLICK HERE TO BOOK A YEAR 5 TOUR \n 
URL:https://www.shsg.org/event/year-5-school-tours-2024/
CATEGORIES:Featured Event,Key Dates,Parents’ Information,Summer Term
ATTACH;FMTTYPE=image/jpeg:https://www.shsg.org/wp-content/uploads/2021/06/Southend-High-School-Exports_-2-scaled.jpg
END:VEVENT
BEGIN:VEVENT
DTSTART;VALUE=DATE:20240705
DTEND;VALUE=DATE:20240706
DTSTAMP:20260424T071819
CREATED:20231121T215957Z
LAST-MODIFIED:20231122T121019Z
UID:7967-1720137600-1720223999@www.shsg.org
SUMMARY:Year 6 Transition Day
DESCRIPTION:
URL:https://www.shsg.org/event/year-6-transition-day-2/
ATTACH;FMTTYPE=image/jpeg:https://www.shsg.org/wp-content/uploads/2021/08/R4A5535-1-scaled.jpg
END:VEVENT
BEGIN:VEVENT
DTSTART;TZID=Europe/London:20240704T170000
DTEND;TZID=Europe/London:20240704T200000
DTSTAMP:20260424T071819
CREATED:20231121T215841Z
LAST-MODIFIED:20240607T132723Z
UID:7965-1720112400-1720123200@www.shsg.org
SUMMARY:Year 5 Open Evening
DESCRIPTION:Our Year 5 Open Evening will take place on Thursday 4th July 2024 (5:00pm – 8:00pm). \nHeadteacher’s Talks will take place at 5.15pm\, 6.15pm & 7.15pm – no appointment is necessary.
URL:https://www.shsg.org/event/year-5-open-evening-24/
CATEGORIES:Featured Event,Key Dates,Open Event,Parents’ Information,School Event,Summer Term
ATTACH;FMTTYPE=image/jpeg:https://www.shsg.org/wp-content/uploads/2024/06/promo.jpg
END:VEVENT
BEGIN:VEVENT
DTSTART;VALUE=DATE:20240703
DTEND;VALUE=DATE:20240704
DTSTAMP:20260424T071819
CREATED:20240820T071513Z
LAST-MODIFIED:20240820T071513Z
UID:8517-1719964800-1720051199@www.shsg.org
SUMMARY:Year 8 - Careers Carousel
DESCRIPTION:
URL:https://www.shsg.org/event/year-8-careers-carousel-2025/
CATEGORIES:Key Dates,Parents’ Information,Summer Term
ATTACH;FMTTYPE=image/png:https://www.shsg.org/wp-content/uploads/2024/08/SHSG-STUDENT-MATHS-1.png
END:VEVENT
BEGIN:VEVENT
DTSTART;VALUE=DATE:20240703
DTEND;VALUE=DATE:20240704
DTSTAMP:20260424T071819
CREATED:20240312T125025Z
LAST-MODIFIED:20240312T125025Z
UID:8211-1719964800-1720051199@www.shsg.org
SUMMARY:Year 8 - Careers Carousel
DESCRIPTION:
URL:https://www.shsg.org/event/year-8-careers-carousel/
CATEGORIES:Key Dates,Parents’ Information,Summer Term
ATTACH;FMTTYPE=image/jpeg:https://www.shsg.org/wp-content/uploads/2023/06/Photograph-of-school.jpg
END:VEVENT
BEGIN:VEVENT
DTSTART;VALUE=DATE:20240624
DTEND;VALUE=DATE:20240629
DTSTAMP:20260424T071819
CREATED:20240316T172656Z
LAST-MODIFIED:20240508T092519Z
UID:8228-1719187200-1719619199@www.shsg.org
SUMMARY:Year 12 Work Experience
DESCRIPTION:
URL:https://www.shsg.org/event/year-12-work-experience/
CATEGORIES:Key Dates,Parents’ Information,Summer Term
ATTACH;FMTTYPE=image/jpeg:https://www.shsg.org/wp-content/uploads/2022/09/SHSG-FINAL-BLAZER-RETOUCH-FADE-4-WEBSITE-SML-e1706306721686.jpg
END:VEVENT
BEGIN:VEVENT
DTSTART;VALUE=DATE:20240624
DTEND;VALUE=DATE:20240625
DTSTAMP:20260424T071819
CREATED:20240312T122740Z
LAST-MODIFIED:20240312T122740Z
UID:8208-1719187200-1719273599@www.shsg.org
SUMMARY:Year 10 - Essex University Campus Visit
DESCRIPTION:
URL:https://www.shsg.org/event/year-10-essex-university-campus-visit/
CATEGORIES:Key Dates,Parents’ Information,Summer Term,Trips & Visits
ATTACH;FMTTYPE=image/jpeg:https://www.shsg.org/wp-content/uploads/2024/03/University-of-Essex-Campus.jpg
END:VEVENT
BEGIN:VEVENT
DTSTART;TZID=Europe/London:20240612T183000
DTEND;TZID=Europe/London:20240612T193000
DTSTAMP:20260424T071819
CREATED:20240513T112307Z
LAST-MODIFIED:20240513T112307Z
UID:8333-1718217000-1718220600@www.shsg.org
SUMMARY:New Year 7 Parents' Evening
DESCRIPTION:
URL:https://www.shsg.org/event/new-year-7-parents-evening-2024/
CATEGORIES:Key Dates,Parents Evening,Parents’ Information,School Event,Summer Term
ATTACH;FMTTYPE=image/jpeg:https://www.shsg.org/wp-content/uploads/2021/08/R4A5535-1-scaled.jpg
END:VEVENT
BEGIN:VEVENT
DTSTART;VALUE=DATE:20240610
DTEND;VALUE=DATE:20240611
DTSTAMP:20260424T071819
CREATED:20240513T110939Z
LAST-MODIFIED:20240513T110939Z
UID:8330-1717977600-1718063999@www.shsg.org
SUMMARY:Years 7 - 10 - Borough Athletics Heats
DESCRIPTION:
URL:https://www.shsg.org/event/year-7-lee-valley-indoor-athletics-schools-cup-5-2-2/
CATEGORIES:Parents’ Information,School Event,Summer Term
ATTACH;FMTTYPE=image/jpeg:https://www.shsg.org/wp-content/uploads/2021/08/R4A6634-scaled.jpg
END:VEVENT
BEGIN:VEVENT
DTSTART;VALUE=DATE:20240610
DTEND;VALUE=DATE:20240611
DTSTAMP:20260424T071819
CREATED:20240513T111609Z
LAST-MODIFIED:20240513T111609Z
UID:8331-1717977600-1718063999@www.shsg.org
SUMMARY:Year 7 - Geography Trip to Southchurch Park
DESCRIPTION:
URL:https://www.shsg.org/event/year-7-geography-trip-to-southchurch-park/
CATEGORIES:Key Dates,Parents’ Information,Summer Term,Trips & Visits
ATTACH;FMTTYPE=image/jpeg:https://www.shsg.org/wp-content/uploads/2024/05/Southchurch-Park.jpg
END:VEVENT
BEGIN:VEVENT
DTSTART;VALUE=DATE:20240610
DTEND;VALUE=DATE:20240615
DTSTAMP:20260424T071819
CREATED:20240513T110836Z
LAST-MODIFIED:20240513T110836Z
UID:8328-1717977600-1718409599@www.shsg.org
SUMMARY:Science Week
DESCRIPTION:
URL:https://www.shsg.org/event/science-week/
CATEGORIES:Key Dates,Parents’ Information,School Event,Summer Term
ATTACH;FMTTYPE=image/png:https://www.shsg.org/wp-content/uploads/2024/05/SHSG-BIO-ICONS-19.png
END:VEVENT
BEGIN:VEVENT
DTSTART;VALUE=DATE:20240608
DTEND;VALUE=DATE:20240609
DTSTAMP:20260424T071819
CREATED:20240513T110425Z
LAST-MODIFIED:20240513T110425Z
UID:8327-1717804800-1717891199@www.shsg.org
SUMMARY:Years 7 - 10 - Track & Field County Championships
DESCRIPTION:
URL:https://www.shsg.org/event/years-7-10-track-field-county-championships/
CATEGORIES:Key Dates,Parents’ Information,School Event,Summer Term
ATTACH;FMTTYPE=image/jpeg:https://www.shsg.org/wp-content/uploads/2021/09/R4A6641-scaled.jpg
END:VEVENT
BEGIN:VEVENT
DTSTART;VALUE=DATE:20240607
DTEND;VALUE=DATE:20240608
DTSTAMP:20260424T071819
CREATED:20240513T110305Z
LAST-MODIFIED:20240513T110305Z
UID:8325-1717718400-1717804799@www.shsg.org
SUMMARY:Year 12 - British Museum Trip
DESCRIPTION:
URL:https://www.shsg.org/event/year-12-british-museum-trip/
CATEGORIES:Key Dates,Parents’ Information,Summer Term,Trips & Visits
ATTACH;FMTTYPE=image/jpeg:https://www.shsg.org/wp-content/uploads/2024/05/British-Museum.jpg
END:VEVENT
BEGIN:VEVENT
DTSTART;VALUE=DATE:20240606
DTEND;VALUE=DATE:20240607
DTSTAMP:20260424T071819
CREATED:20231121T215358Z
LAST-MODIFIED:20231122T120843Z
UID:7964-1717632000-1717718399@www.shsg.org
SUMMARY:Year 10 Parents' Consultation Evening
DESCRIPTION:
URL:https://www.shsg.org/event/year-10-parents-consultation-evening/
ATTACH;FMTTYPE=image/png:https://www.shsg.org/wp-content/uploads/2022/09/Virtual-Consultation-Evening.png
END:VEVENT
BEGIN:VEVENT
DTSTART;TZID=Europe/London:20240605T133000
DTEND;TZID=Europe/London:20240605T153000
DTSTAMP:20260424T071819
CREATED:20240513T103832Z
LAST-MODIFIED:20240513T110011Z
UID:8322-1717594200-1717601400@www.shsg.org
SUMMARY:Year 10 - GCSE Statistics Exam
DESCRIPTION:
URL:https://www.shsg.org/event/year-10-gcse-statistics-exam/
CATEGORIES:Exams Information,Parents’ Information,Summer Term
ATTACH;FMTTYPE=image/png:https://www.shsg.org/wp-content/uploads/2024/05/SHSG-MATHS-PIE-CHART.png
END:VEVENT
END:VCALENDAR