BEGIN:VCALENDAR
VERSION:2.0
PRODID:-//Southend High School for Girls - ECPv6.15.20//NONSGML v1.0//EN
CALSCALE:GREGORIAN
METHOD:PUBLISH
X-ORIGINAL-URL:https://www.shsg.org
X-WR-CALDESC:Events for Southend High School for Girls
REFRESH-INTERVAL;VALUE=DURATION:PT1H
X-Robots-Tag:noindex
X-PUBLISHED-TTL:PT1H
BEGIN:VTIMEZONE
TZID:Europe/London
BEGIN:DAYLIGHT
TZOFFSETFROM:+0000
TZOFFSETTO:+0100
TZNAME:BST
DTSTART:20240331T010000
END:DAYLIGHT
BEGIN:STANDARD
TZOFFSETFROM:+0100
TZOFFSETTO:+0000
TZNAME:GMT
DTSTART:20241027T010000
END:STANDARD
BEGIN:DAYLIGHT
TZOFFSETFROM:+0000
TZOFFSETTO:+0100
TZNAME:BST
DTSTART:20250330T010000
END:DAYLIGHT
BEGIN:STANDARD
TZOFFSETFROM:+0100
TZOFFSETTO:+0000
TZNAME:GMT
DTSTART:20251026T010000
END:STANDARD
BEGIN:DAYLIGHT
TZOFFSETFROM:+0000
TZOFFSETTO:+0100
TZNAME:BST
DTSTART:20260329T010000
END:DAYLIGHT
BEGIN:STANDARD
TZOFFSETFROM:+0100
TZOFFSETTO:+0000
TZNAME:GMT
DTSTART:20261025T010000
END:STANDARD
BEGIN:DAYLIGHT
TZOFFSETFROM:+0000
TZOFFSETTO:+0100
TZNAME:BST
DTSTART:20270328T010000
END:DAYLIGHT
BEGIN:STANDARD
TZOFFSETFROM:+0100
TZOFFSETTO:+0000
TZNAME:GMT
DTSTART:20271031T010000
END:STANDARD
END:VTIMEZONE
BEGIN:VEVENT
DTSTART;TZID=Europe/London:20260304T113000
DTEND;TZID=Europe/London:20260304T153000
DTSTAMP:20260424T080943
CREATED:20260119T112539Z
LAST-MODIFIED:20260119T112552Z
UID:9618-1772623800-1772638200@www.shsg.org
SUMMARY:Years 7 - 11 - Borough Swimming Gala
DESCRIPTION:
URL:https://www.shsg.org/event/years-7-11-borough-swimming-gala-03-2026/
CATEGORIES:Parents’ Information,School Event,Spring Term
ATTACH;FMTTYPE=image/jpeg:https://www.shsg.org/wp-content/uploads/2023/11/Swimming-scaled.jpg
END:VEVENT
BEGIN:VEVENT
DTSTART;VALUE=DATE:20260302
DTEND;VALUE=DATE:20260307
DTSTAMP:20260424T080943
CREATED:20260119T112401Z
LAST-MODIFIED:20260119T112401Z
UID:9617-1772409600-1772841599@www.shsg.org
SUMMARY:Charity Week
DESCRIPTION:
URL:https://www.shsg.org/event/charity-week-2026/
CATEGORIES:Key Dates,School Event,Spring Term
END:VEVENT
BEGIN:VEVENT
DTSTART;VALUE=DATE:20260302
DTEND;VALUE=DATE:20260307
DTSTAMP:20260424T080943
CREATED:20260119T111923Z
LAST-MODIFIED:20260119T111923Z
UID:9441-1772409600-1772841599@www.shsg.org
SUMMARY:Year 12 - Tenby Geography Trip
DESCRIPTION:
URL:https://www.shsg.org/event/year-12-tenby-geography-trip-2026/
CATEGORIES:Parents’ Information,Spring Term,Trips & Visits
ATTACH;FMTTYPE=image/jpeg:https://www.shsg.org/wp-content/uploads/Tenby-Dusk-Banner-1280x854-1.jpg
END:VEVENT
BEGIN:VEVENT
DTSTART;VALUE=DATE:20260227
DTEND;VALUE=DATE:20260228
DTSTAMP:20260424T080943
CREATED:20260119T112314Z
LAST-MODIFIED:20260119T112314Z
UID:9616-1772150400-1772236799@www.shsg.org
SUMMARY:Non Uniform Day
DESCRIPTION:
URL:https://www.shsg.org/event/non-uniform-day-02-2026/
CATEGORIES:Featured Event,Parents’ Information,School Event,Spring Term
END:VEVENT
BEGIN:VEVENT
DTSTART;TZID=Europe/London:20260224T130000
DTEND;TZID=Europe/London:20260224T183000
DTSTAMP:20260424T080943
CREATED:20260119T105049Z
LAST-MODIFIED:20260119T105049Z
UID:9607-1771938000-1771957800@www.shsg.org
SUMMARY:Year 10 & 12 - Dry Ski Slopes Trip
DESCRIPTION:
URL:https://www.shsg.org/event/year-10-12-dry-ski-slopes-trip-2026-2/
CATEGORIES:Parents’ Information,Spring Term,Trips & Visits
ATTACH;FMTTYPE=image/jpeg:https://www.shsg.org/wp-content/uploads/2023/11/Brentwood-Dry-Ski-Slope.jpg
END:VEVENT
BEGIN:VEVENT
DTSTART;VALUE=DATE:20260216
DTEND;VALUE=DATE:20260221
DTSTAMP:20260424T080943
CREATED:20260119T111705Z
LAST-MODIFIED:20260119T111705Z
UID:9614-1771200000-1771631999@www.shsg.org
SUMMARY:Spring Half Term
DESCRIPTION:
URL:https://www.shsg.org/event/spring-half-term-2026/
CATEGORIES:Key Dates,Parents’ Information,Spring Term
ATTACH;FMTTYPE=image/jpeg:https://www.shsg.org/wp-content/uploads/2021/07/sergey-shmidt-koy6FlCCy5s-unsplash.jpg
END:VEVENT
BEGIN:VEVENT
DTSTART;VALUE=DATE:20260213
DTEND;VALUE=DATE:20260214
DTSTAMP:20260424T080943
CREATED:20260119T111320Z
LAST-MODIFIED:20260119T111320Z
UID:9613-1770940800-1771027199@www.shsg.org
SUMMARY:Year 9 - Immunisations
DESCRIPTION:
URL:https://www.shsg.org/event/year-9-immunisations-2026/
CATEGORIES:Parents’ Information,Spring Term
ATTACH;FMTTYPE=image/jpeg:https://www.shsg.org/wp-content/uploads/2023/06/Photograph-of-school.jpg
END:VEVENT
BEGIN:VEVENT
DTSTART;TZID=Europe/London:20260212T071500
DTEND;TZID=Europe/London:20260212T180000
DTSTAMP:20260424T080943
CREATED:20260119T110837Z
LAST-MODIFIED:20260119T110837Z
UID:9611-1770880500-1770919200@www.shsg.org
SUMMARY:Year 10 & 12 - STEM Racing Final
DESCRIPTION:
URL:https://www.shsg.org/event/year-10-12-stem-racing-final-2026/
CATEGORIES:Parents’ Information,Spring Term,Trips & Visits
ATTACH;FMTTYPE=image/png:https://www.shsg.org/wp-content/uploads/STEM-Racing-Banner.png
END:VEVENT
BEGIN:VEVENT
DTSTART;VALUE=DATE:20260212
DTEND;VALUE=DATE:20260213
DTSTAMP:20260424T080943
CREATED:20260119T110514Z
LAST-MODIFIED:20260119T110514Z
UID:9610-1770854400-1770940799@www.shsg.org
SUMMARY:Year 12 Parents Evening
DESCRIPTION:
URL:https://www.shsg.org/event/year-12-parents-evening-2026/
CATEGORIES:Parents Evening,Parents’ Information,School Event,Spring Term
ATTACH;FMTTYPE=image/jpeg:https://www.shsg.org/wp-content/uploads/2022/09/SHSG-FINAL-BLAZER-RETOUCH-FADE-4-WEBSITE-SML-e1706306721686.jpg
END:VEVENT
BEGIN:VEVENT
DTSTART;VALUE=DATE:20260204
DTEND;VALUE=DATE:20260208
DTSTAMP:20260424T080943
CREATED:20260113T091353Z
LAST-MODIFIED:20260114T122926Z
UID:9596-1770163200-1770508799@www.shsg.org
SUMMARY:Guys and Dolls Jr - School Production
DESCRIPTION:This year\, we will have 4 evening performances of Guys and Dolls Jr from Wednesday 4th February to Saturday 7th February at 7pm. \nTickets are available at: www.ticketsource.co.uk/southend-high-school-for-girls \n  \n 
URL:https://www.shsg.org/event/guys-and-dolls-jr-school-production/
CATEGORIES:Featured Event,School Event,Spring Term
ATTACH;FMTTYPE=image/jpeg:https://www.shsg.org/wp-content/uploads/GUYS-AND-DOLLS-A5-POSTER-FINAL-CAST-1.jpg
END:VEVENT
BEGIN:VEVENT
DTSTART;TZID=Europe/London:20260203T175000
DTEND;TZID=Europe/London:20260203T223000
DTSTAMP:20260424T080943
CREATED:20260119T105442Z
LAST-MODIFIED:20260119T105442Z
UID:9608-1770141000-1770157800@www.shsg.org
SUMMARY:Year 12 & 13 - Woman in Black Trip
DESCRIPTION:
URL:https://www.shsg.org/event/year-12-13-woman-in-black-trip/
CATEGORIES:Parents’ Information,Spring Term,Trips & Visits
ATTACH;FMTTYPE=image/jpeg:https://www.shsg.org/wp-content/uploads/Woman-in-Black.jpg
END:VEVENT
BEGIN:VEVENT
DTSTART;VALUE=DATE:20260129
DTEND;VALUE=DATE:20260202
DTSTAMP:20260424T080943
CREATED:20250827T130633Z
LAST-MODIFIED:20260116T131522Z
UID:9438-1769644800-1769990399@www.shsg.org
SUMMARY:Year 12 & 13 - Copenhagen Chemistry Trip
DESCRIPTION:
URL:https://www.shsg.org/event/year-13-chemistry-copenhagen-trip-2026/
CATEGORIES:Featured Event,Parents’ Information,Spring Term,Trips & Visits
ATTACH;FMTTYPE=image/jpeg:https://www.shsg.org/wp-content/uploads/Copenhagen-scaled.jpg
END:VEVENT
BEGIN:VEVENT
DTSTART;VALUE=DATE:20260128
DTEND;VALUE=DATE:20260131
DTSTAMP:20260424T080943
CREATED:20250827T130414Z
LAST-MODIFIED:20250827T130414Z
UID:9437-1769558400-1769817599@www.shsg.org
SUMMARY:Year 10 - Geography Flatford Mill Trip
DESCRIPTION:
URL:https://www.shsg.org/event/year-10-flatford-mill-trip-2026/
CATEGORIES:Key Dates,Parents’ Information,Spring Term,Trips & Visits
ATTACH;FMTTYPE=image/jpeg:https://www.shsg.org/wp-content/uploads/2023/11/Flatford-Mill.jpg
END:VEVENT
BEGIN:VEVENT
DTSTART;TZID=Europe/London:20260127T180000
DTEND;TZID=Europe/London:20260127T200000
DTSTAMP:20260424T080943
CREATED:20250827T130021Z
LAST-MODIFIED:20260119T104724Z
UID:9434-1769536800-1769544000@www.shsg.org
SUMMARY:Year 9 - Options and Subject Fair
DESCRIPTION:
URL:https://www.shsg.org/event/year-9-options-fair-2026/
CATEGORIES:Featured Event,Key Dates,Parents’ Information,School Event,Spring Term
ATTACH;FMTTYPE=image/jpeg:https://www.shsg.org/wp-content/uploads/2022/09/SHSG-FINAL-BLAZER-RETOUCH-FADE-4-WEBSITE-SML-e1706306721686.jpg
END:VEVENT
BEGIN:VEVENT
DTSTART;TZID=Europe/London:20260127T130000
DTEND;TZID=Europe/London:20260127T183000
DTSTAMP:20260424T080943
CREATED:20260119T105005Z
LAST-MODIFIED:20260119T105005Z
UID:9606-1769518800-1769538600@www.shsg.org
SUMMARY:Year 10 & 12 - Dry Ski Slopes Trip
DESCRIPTION:
URL:https://www.shsg.org/event/year-10-12-dry-ski-slopes-trip/
CATEGORIES:Parents’ Information,Spring Term,Trips & Visits
ATTACH;FMTTYPE=image/jpeg:https://www.shsg.org/wp-content/uploads/2023/11/Brentwood-Dry-Ski-Slope.jpg
END:VEVENT
BEGIN:VEVENT
DTSTART;VALUE=DATE:20260126
DTEND;VALUE=DATE:20260130
DTSTAMP:20260424T080943
CREATED:20250827T130307Z
LAST-MODIFIED:20250827T130307Z
UID:9436-1769385600-1769731199@www.shsg.org
SUMMARY:Year 11 - Food Tech NEA
DESCRIPTION:
URL:https://www.shsg.org/event/year-11-food-tech-nea-2026/
CATEGORIES:Exams Information,Parents’ Information,Spring Term
ATTACH;FMTTYPE=image/jpeg:https://www.shsg.org/wp-content/uploads/2021/08/Southend-High-School-Exports_-345-scaled.jpg
END:VEVENT
BEGIN:VEVENT
DTSTART;VALUE=DATE:20260123
DTEND;VALUE=DATE:20260124
DTSTAMP:20260424T080943
CREATED:20260116T131242Z
LAST-MODIFIED:20260116T131242Z
UID:9600-1769126400-1769212799@www.shsg.org
SUMMARY:Year 12 - Media Studies Conference
DESCRIPTION:
URL:https://www.shsg.org/event/year-12-media-studies-conference-26/
CATEGORIES:Parents’ Information,Spring Term,Trips & Visits
ATTACH;FMTTYPE=image/jpeg:https://www.shsg.org/wp-content/uploads/2023/11/Media-Studies.jpeg
END:VEVENT
BEGIN:VEVENT
DTSTART;VALUE=DATE:20260122
DTEND;VALUE=DATE:20260123
DTSTAMP:20260424T080943
CREATED:20250827T130151Z
LAST-MODIFIED:20260108T183540Z
UID:9435-1769040000-1769126399@www.shsg.org
SUMMARY:Year 7 - Parents Evening
DESCRIPTION:
URL:https://www.shsg.org/event/year-7-parents-evening-2026/
CATEGORIES:Featured Event,Parents Evening,Parents’ Information,School Event,Spring Term
ATTACH;FMTTYPE=image/jpeg:https://www.shsg.org/wp-content/uploads/2023/06/Photograph-of-school.jpg
END:VEVENT
BEGIN:VEVENT
DTSTART;VALUE=DATE:20260121
DTEND;VALUE=DATE:20260124
DTSTAMP:20260424T080943
CREATED:20251204T124528Z
LAST-MODIFIED:20251204T124528Z
UID:9564-1768953600-1769212799@www.shsg.org
SUMMARY:Year 13 Art PPE
DESCRIPTION:
URL:https://www.shsg.org/event/year-13-art-ppe-26/
CATEGORIES:Exams Information,Parents’ Information,Spring Term
ATTACH;FMTTYPE=image/png:https://www.shsg.org/wp-content/uploads/2024/03/Art-Exams.png
END:VEVENT
BEGIN:VEVENT
DTSTART;VALUE=DATE:20260112
DTEND;VALUE=DATE:20260114
DTSTAMP:20260424T080943
CREATED:20250827T125751Z
LAST-MODIFIED:20250827T125751Z
UID:9431-1768176000-1768348799@www.shsg.org
SUMMARY:Year 10 - Rock Climbing NEA
DESCRIPTION:
URL:https://www.shsg.org/event/year-10-rock-climbing-nea-2026-2/
CATEGORIES:Parents’ Information,Spring Term,Trips & Visits
ATTACH;FMTTYPE=image/png:https://www.shsg.org/wp-content/uploads/Rock-Climbing.png
END:VEVENT
BEGIN:VEVENT
DTSTART;VALUE=DATE:20260109
DTEND;VALUE=DATE:20260110
DTSTAMP:20260424T080943
CREATED:20250827T125721Z
LAST-MODIFIED:20250827T125721Z
UID:9430-1767916800-1768003199@www.shsg.org
SUMMARY:Year 8 - Bletchley Park Maths Trip
DESCRIPTION:
URL:https://www.shsg.org/event/year-8-bletchley-park-maths-trip-2026-2/
CATEGORIES:Parents’ Information,Spring Term,Trips & Visits
ATTACH;FMTTYPE=image/jpeg:https://www.shsg.org/wp-content/uploads/Bletchley-Park.jpg
END:VEVENT
BEGIN:VEVENT
DTSTART;VALUE=DATE:20260107
DTEND;VALUE=DATE:20260108
DTSTAMP:20260424T080943
CREATED:20250827T125438Z
LAST-MODIFIED:20250827T125438Z
UID:9429-1767744000-1767830399@www.shsg.org
SUMMARY:Year 12 - Art Galleries Trip
DESCRIPTION:
URL:https://www.shsg.org/event/year-12-art-galleries-trip-26/
CATEGORIES:Parents’ Information,Spring Term,Trips & Visits
ATTACH;FMTTYPE=image/jpeg:https://www.shsg.org/wp-content/uploads/2024/11/Courtauld-Art-Gallery.jpg
END:VEVENT
BEGIN:VEVENT
DTSTART;VALUE=DATE:20260106
DTEND;VALUE=DATE:20260107
DTSTAMP:20260424T080943
CREATED:20250827T125042Z
LAST-MODIFIED:20250827T125042Z
UID:9427-1767657600-1767743999@www.shsg.org
SUMMARY:Year 8 - Bletchley Park Maths Trip
DESCRIPTION:
URL:https://www.shsg.org/event/year-8-bletchley-park-maths-trip-2026/
CATEGORIES:Parents’ Information,Spring Term,Trips & Visits
ATTACH;FMTTYPE=image/jpeg:https://www.shsg.org/wp-content/uploads/Bletchley-Park.jpg
END:VEVENT
BEGIN:VEVENT
DTSTART;VALUE=DATE:20260106
DTEND;VALUE=DATE:20260108
DTSTAMP:20260424T080943
CREATED:20250827T124727Z
LAST-MODIFIED:20250827T124727Z
UID:9425-1767657600-1767830399@www.shsg.org
SUMMARY:Year 10 - Rock Climbing NEA
DESCRIPTION:
URL:https://www.shsg.org/event/year-10-rock-climbing-nea-2026/
CATEGORIES:Parents’ Information,Spring Term,Trips & Visits
ATTACH;FMTTYPE=image/png:https://www.shsg.org/wp-content/uploads/Rock-Climbing.png
END:VEVENT
BEGIN:VEVENT
DTSTART;VALUE=DATE:20260105
DTEND;VALUE=DATE:20260121
DTSTAMP:20260424T080943
CREATED:20250827T125903Z
LAST-MODIFIED:20251204T124140Z
UID:9432-1767571200-1768953599@www.shsg.org
SUMMARY:Year 11 PPE's
DESCRIPTION:
URL:https://www.shsg.org/event/year-11-ppes-26/
CATEGORIES:Exams Information,Parents’ Information,Spring Term
ATTACH;FMTTYPE=image/jpeg:https://www.shsg.org/wp-content/uploads/2021/08/R4A6114-scaled.jpg
END:VEVENT
BEGIN:VEVENT
DTSTART;VALUE=DATE:20260105
DTEND;VALUE=DATE:20260117
DTSTAMP:20260424T080943
CREATED:20250827T125841Z
LAST-MODIFIED:20251204T124205Z
UID:9433-1767571200-1768607999@www.shsg.org
SUMMARY:Year 13 PPE's
DESCRIPTION:
URL:https://www.shsg.org/event/year-13-ppes-26/
CATEGORIES:Exams Information,Parents’ Information,Spring Term
ATTACH;FMTTYPE=image/jpeg:https://www.shsg.org/wp-content/uploads/2021/08/R4A6114-scaled.jpg
END:VEVENT
BEGIN:VEVENT
DTSTART;VALUE=DATE:20251222
DTEND;VALUE=DATE:20260105
DTSTAMP:20260424T080943
CREATED:20250819T100839Z
LAST-MODIFIED:20250819T102143Z
UID:9366-1766361600-1767571199@www.shsg.org
SUMMARY:Christmas Break
DESCRIPTION:
URL:https://www.shsg.org/event/christmas-school-holidays-2025/
LOCATION:Southend High School for Girls\, Southend High School for Girls\, Southend\, Southend-on-sea\, SS2 4UZ\, United Kingdom
CATEGORIES:Key Dates,Parents’ Information,Winter Term
ATTACH;FMTTYPE=image/jpeg:https://www.shsg.org/wp-content/uploads/2023/09/C-Music.jpeg
ORGANIZER;CN="Southend High School for Girls":MAILTO:office@shsg.org
END:VEVENT
BEGIN:VEVENT
DTSTART;TZID=Europe/London:20251217T190000
DTEND;TZID=Europe/London:20251217T210000
DTSTAMP:20260424T080943
CREATED:20250819T100403Z
LAST-MODIFIED:20250819T100403Z
UID:9364-1765998000-1766005200@www.shsg.org
SUMMARY:Carol Service
DESCRIPTION:
URL:https://www.shsg.org/event/carol-service-2025/
CATEGORIES:Autumn Term,Parents’ Information,School Event
ATTACH;FMTTYPE=image/jpeg:https://www.shsg.org/wp-content/uploads/2023/09/Carol-Service.jpeg
END:VEVENT
BEGIN:VEVENT
DTSTART;TZID=Europe/London:20251216T140000
DTEND;TZID=Europe/London:20251216T170000
DTSTAMP:20260424T080943
CREATED:20250819T100306Z
LAST-MODIFIED:20250819T100306Z
UID:9363-1765893600-1765904400@www.shsg.org
SUMMARY:Year 10 & 12 - Dry Ski Slopes Trip
DESCRIPTION:
URL:https://www.shsg.org/event/dry-ski-slopes-2025/
CATEGORIES:Parents’ Information,Trips & Visits,Winter Term
ATTACH;FMTTYPE=image/jpeg:https://www.shsg.org/wp-content/uploads/2023/11/Brentwood-Dry-Ski-Slope.jpg
END:VEVENT
BEGIN:VEVENT
DTSTART;VALUE=DATE:20251215
DTEND;VALUE=DATE:20251217
DTSTAMP:20260424T080943
CREATED:20250819T100531Z
LAST-MODIFIED:20250819T100531Z
UID:9365-1765756800-1765929599@www.shsg.org
SUMMARY:Year 13 - MFL Speaking PPE's
DESCRIPTION:
URL:https://www.shsg.org/event/year-13-mfl-ppes-2025/
CATEGORIES:Autumn Term,Exams Information,Parents’ Information
ATTACH;FMTTYPE=image/jpeg:https://www.shsg.org/wp-content/uploads/2022/05/MFL.jpg
END:VEVENT
END:VCALENDAR