BEGIN:VCALENDAR
VERSION:2.0
PRODID:-//Southend High School for Girls - ECPv6.15.20//NONSGML v1.0//EN
CALSCALE:GREGORIAN
METHOD:PUBLISH
X-ORIGINAL-URL:https://www.shsg.org
X-WR-CALDESC:Events for Southend High School for Girls
REFRESH-INTERVAL;VALUE=DURATION:PT1H
X-Robots-Tag:noindex
X-PUBLISHED-TTL:PT1H
BEGIN:VTIMEZONE
TZID:Europe/London
BEGIN:DAYLIGHT
TZOFFSETFROM:+0000
TZOFFSETTO:+0100
TZNAME:BST
DTSTART:20230326T010000
END:DAYLIGHT
BEGIN:STANDARD
TZOFFSETFROM:+0100
TZOFFSETTO:+0000
TZNAME:GMT
DTSTART:20231029T010000
END:STANDARD
BEGIN:DAYLIGHT
TZOFFSETFROM:+0000
TZOFFSETTO:+0100
TZNAME:BST
DTSTART:20240331T010000
END:DAYLIGHT
BEGIN:STANDARD
TZOFFSETFROM:+0100
TZOFFSETTO:+0000
TZNAME:GMT
DTSTART:20241027T010000
END:STANDARD
BEGIN:DAYLIGHT
TZOFFSETFROM:+0000
TZOFFSETTO:+0100
TZNAME:BST
DTSTART:20250330T010000
END:DAYLIGHT
BEGIN:STANDARD
TZOFFSETFROM:+0100
TZOFFSETTO:+0000
TZNAME:GMT
DTSTART:20251026T010000
END:STANDARD
END:VTIMEZONE
BEGIN:VEVENT
DTSTART;VALUE=DATE:20241120
DTEND;VALUE=DATE:20241121
DTSTAMP:20260424T054443
CREATED:20240815T100301Z
LAST-MODIFIED:20241105T131020Z
UID:8440-1732060800-1732147199@www.shsg.org
SUMMARY:In-Year Admissions Testing
DESCRIPTION:
URL:https://www.shsg.org/event/in-year-admissions-testing-2024/
CATEGORIES:Autumn Term,Exams Information,Featured Event,Parents’ Information
ATTACH;FMTTYPE=image/png:https://www.shsg.org/wp-content/uploads/2021/08/Banner-LIAV2-HM4-with-green.png
END:VEVENT
BEGIN:VEVENT
DTSTART;TZID=Europe/London:20241120T130000
DTEND;TZID=Europe/London:20241120T193000
DTSTAMP:20260424T054443
CREATED:20241114T131420Z
LAST-MODIFIED:20241114T131420Z
UID:8900-1732107600-1732131000@www.shsg.org
SUMMARY:Year 8 - 9 Indoor Athletics
DESCRIPTION:
URL:https://www.shsg.org/event/year-8-9-indoor-athletics-11-24/
CATEGORIES:Autumn Term,Parents’ Information,School Event
ATTACH;FMTTYPE=image/jpeg:https://www.shsg.org/wp-content/uploads/2024/08/southendgirls-5733-scaled.jpg
END:VEVENT
BEGIN:VEVENT
DTSTART;TZID=Europe/London:20241120T133000
DTEND;TZID=Europe/London:20241120T153000
DTSTAMP:20260424T054443
CREATED:20241114T131638Z
LAST-MODIFIED:20241114T131638Z
UID:8901-1732109400-1732116600@www.shsg.org
SUMMARY:U19 Boys Football
DESCRIPTION:
URL:https://www.shsg.org/event/u19-boys-football-11-24/
CATEGORIES:Autumn Term,School Event
ATTACH;FMTTYPE=image/jpeg:https://www.shsg.org/wp-content/uploads/2024/08/southendgirls-6179-scaled.jpg
END:VEVENT
BEGIN:VEVENT
DTSTART;VALUE=DATE:20241121
DTEND;VALUE=DATE:20241122
DTSTAMP:20260424T054443
CREATED:20240815T121648Z
LAST-MODIFIED:20241105T131051Z
UID:8457-1732147200-1732233599@www.shsg.org
SUMMARY:Year 13 Parents' Evening
DESCRIPTION:
URL:https://www.shsg.org/event/year-13-parents-evening-2-2/
CATEGORIES:Autumn Term,Featured Event,Key Dates,Parents Evening,Parents’ Information,Virtual Event
ATTACH;FMTTYPE=image/jpeg:https://www.shsg.org/wp-content/uploads/2022/07/SHSG-FINAL-BLAZER-RETOUCH-NO-FADE-SML-e1664129373859.jpg
END:VEVENT
BEGIN:VEVENT
DTSTART;TZID=Europe/London:20241122T113000
DTEND;TZID=Europe/London:20241122T121500
DTSTAMP:20260424T054443
CREATED:20241115T100509Z
LAST-MODIFIED:20241115T100509Z
UID:8903-1732275000-1732277700@www.shsg.org
SUMMARY:External Year 11 Tours - Sixth Form
DESCRIPTION:
URL:https://www.shsg.org/event/external-year-11-tours-sixth-form-11-am/
CATEGORIES:Autumn Term,Key Dates,Parents’ Information
ATTACH;FMTTYPE=image/jpeg:https://www.shsg.org/wp-content/uploads/2021/09/Southend-High-School-Exports_-2-scaled.jpg
END:VEVENT
BEGIN:VEVENT
DTSTART;TZID=Europe/London:20241122T133000
DTEND;TZID=Europe/London:20241122T141500
DTSTAMP:20260424T054443
CREATED:20241115T101130Z
LAST-MODIFIED:20241115T101130Z
UID:8907-1732282200-1732284900@www.shsg.org
SUMMARY:External Year 11 Tours - Sixth Form
DESCRIPTION:
URL:https://www.shsg.org/event/external-year-11-tours-sixth-frm-11-pm/
CATEGORIES:Autumn Term,Key Dates,Parents’ Information
ATTACH;FMTTYPE=image/jpeg:https://www.shsg.org/wp-content/uploads/2021/09/Southend-High-School-Exports_-2-scaled.jpg
END:VEVENT
BEGIN:VEVENT
DTSTART;VALUE=DATE:20241125
DTEND;VALUE=DATE:20241126
DTSTAMP:20260424T054443
CREATED:20241118T104656Z
LAST-MODIFIED:20241118T104656Z
UID:8920-1732492800-1732579199@www.shsg.org
SUMMARY:Year 13 - Sociology Conference
DESCRIPTION:
URL:https://www.shsg.org/event/year-13-sociology-conference/
CATEGORIES:Autumn Term,Parents’ Information,Trips & Visits
ATTACH;FMTTYPE=image/jpeg:https://www.shsg.org/wp-content/uploads/2023/11/Sociology.jpg
END:VEVENT
BEGIN:VEVENT
DTSTART;TZID=Europe/London:20241125T150000
DTEND;TZID=Europe/London:20241125T180000
DTSTAMP:20260424T054443
CREATED:20241118T104826Z
LAST-MODIFIED:20241118T104826Z
UID:8921-1732546800-1732557600@www.shsg.org
SUMMARY:U15 Netball
DESCRIPTION:
URL:https://www.shsg.org/event/u15-netball/
CATEGORIES:Autumn Term,Key Dates,Parents’ Information,School Event
ATTACH;FMTTYPE=image/jpeg:https://www.shsg.org/wp-content/uploads/2024/08/southendgirls-5679-scaled.jpg
END:VEVENT
BEGIN:VEVENT
DTSTART;VALUE=DATE:20241126
DTEND;VALUE=DATE:20241127
DTSTAMP:20260424T054443
CREATED:20240815T121742Z
LAST-MODIFIED:20240815T121742Z
UID:8458-1732579200-1732665599@www.shsg.org
SUMMARY:Year 12 -  Newham Geography Trip
DESCRIPTION:
URL:https://www.shsg.org/event/year-12-newham-trip-2024/
CATEGORIES:Autumn Term,Key Dates,Trips & Visits
ATTACH;FMTTYPE=image/jpeg:https://www.shsg.org/wp-content/uploads/2022/09/SHSG-FINAL-BLAZER-RETOUCH-FADE-4-WEBSITE-SML-e1706306721686.jpg
END:VEVENT
BEGIN:VEVENT
DTSTART;TZID=Europe/London:20241126T160000
DTEND;TZID=Europe/London:20241126T173000
DTSTAMP:20260424T054443
CREATED:20241118T104959Z
LAST-MODIFIED:20241118T104959Z
UID:8922-1732636800-1732642200@www.shsg.org
SUMMARY:U15 Basketball
DESCRIPTION:
URL:https://www.shsg.org/event/u15-basketball-12-24/
CATEGORIES:Autumn Term,Parents’ Information,School Event
ATTACH;FMTTYPE=image/jpeg:https://www.shsg.org/wp-content/uploads/2024/03/Basketball.jpg
END:VEVENT
BEGIN:VEVENT
DTSTART;TZID=Europe/London:20241127T130000
DTEND;TZID=Europe/London:20241127T193000
DTSTAMP:20260424T054443
CREATED:20241118T105122Z
LAST-MODIFIED:20241118T105122Z
UID:8923-1732712400-1732735800@www.shsg.org
SUMMARY:Years 8-9 Indoor Athletics
DESCRIPTION:
URL:https://www.shsg.org/event/years-8-9-indoor-athletics-11-24/
CATEGORIES:Autumn Term,Parents’ Information,School Event
ATTACH;FMTTYPE=image/jpeg:https://www.shsg.org/wp-content/uploads/2024/08/southendgirls-3489-scaled.jpg
END:VEVENT
BEGIN:VEVENT
DTSTART;VALUE=DATE:20241128
DTEND;VALUE=DATE:20241129
DTSTAMP:20260424T054443
CREATED:20240815T121836Z
LAST-MODIFIED:20240815T121836Z
UID:8459-1732752000-1732838399@www.shsg.org
SUMMARY:Year 12 Government & Politics Parliament Trip
DESCRIPTION:
URL:https://www.shsg.org/event/year-12-government-politics-parliament-trip-2024/
CATEGORIES:Autumn Term,Parents’ Information,Trips & Visits
ATTACH;FMTTYPE=image/jpeg:https://www.shsg.org/wp-content/uploads/2023/09/parliament.jpg
END:VEVENT
BEGIN:VEVENT
DTSTART;TZID=Europe/London:20241128T100000
DTEND;TZID=Europe/London:20241128T131500
DTSTAMP:20260424T054443
CREATED:20241118T105248Z
LAST-MODIFIED:20241118T105248Z
UID:8924-1732788000-1732799700@www.shsg.org
SUMMARY:Years 7-12 - Southend Music Festival
DESCRIPTION:
URL:https://www.shsg.org/event/years-7-12-southend-music-festival-11-24/
CATEGORIES:Autumn Term,Parents’ Information,School Event
ATTACH;FMTTYPE=image/jpeg:https://www.shsg.org/wp-content/uploads/2023/11/Southend_Musical_Festival-80.jpg
END:VEVENT
BEGIN:VEVENT
DTSTART;VALUE=DATE:20241129
DTEND;VALUE=DATE:20241130
DTSTAMP:20260424T054443
CREATED:20241015T101955Z
LAST-MODIFIED:20241105T131132Z
UID:8656-1732838400-1732924799@www.shsg.org
SUMMARY:Non Uniform Day
DESCRIPTION:Non uniform day for Havens Hospice
URL:https://www.shsg.org/event/non-uniform-day-11-2024/
CATEGORIES:Featured Event,Parents’ Information,School Event,Winter Term
ATTACH;FMTTYPE=image/png:https://www.shsg.org/wp-content/uploads/2024/10/Havens-Hospice.png
END:VEVENT
BEGIN:VEVENT
DTSTART;VALUE=DATE:20241202
DTEND;VALUE=DATE:20241204
DTSTAMP:20260424T054443
CREATED:20241118T105354Z
LAST-MODIFIED:20241118T105354Z
UID:8925-1733097600-1733270399@www.shsg.org
SUMMARY:Year 11 - Art PPE
DESCRIPTION:
URL:https://www.shsg.org/event/year-11-art-ppe-12-24/
CATEGORIES:Autumn Term,Exams Information,Parents’ Information
ATTACH;FMTTYPE=image/png:https://www.shsg.org/wp-content/uploads/2024/03/Art-Exams.png
END:VEVENT
BEGIN:VEVENT
DTSTART;VALUE=DATE:20241204
DTEND;VALUE=DATE:20241205
DTSTAMP:20260424T054443
CREATED:20240815T122445Z
LAST-MODIFIED:20240815T122445Z
UID:8464-1733270400-1733356799@www.shsg.org
SUMMARY:Year 7 - Christmas Song Day
DESCRIPTION:
URL:https://www.shsg.org/event/year-7-christmas-song-day-2024/
CATEGORIES:Autumn Term,Parents’ Information,School Event
ATTACH;FMTTYPE=image/jpeg:https://www.shsg.org/wp-content/uploads/2023/09/C-Music.jpeg
END:VEVENT
BEGIN:VEVENT
DTSTART;VALUE=DATE:20241205
DTEND;VALUE=DATE:20241206
DTSTAMP:20260424T054443
CREATED:20240815T103300Z
LAST-MODIFIED:20240815T103310Z
UID:8443-1733356800-1733443199@www.shsg.org
SUMMARY:Year 11 Parents' Evening
DESCRIPTION:
URL:https://www.shsg.org/event/year-11-parents-evening-2024/
CATEGORIES:Autumn Term,Key Dates,Parents Evening,Parents’ Information,School Event,Virtual Event
ATTACH;FMTTYPE=image/jpeg:https://www.shsg.org/wp-content/uploads/2022/07/SHSG-FINAL-BLAZER-RETOUCH-NO-FADE-SML-e1664129373859.jpg
END:VEVENT
BEGIN:VEVENT
DTSTART;VALUE=DATE:20241206
DTEND;VALUE=DATE:20241208
DTSTAMP:20260424T054443
CREATED:20241015T102201Z
LAST-MODIFIED:20241015T102201Z
UID:8658-1733443200-1733615999@www.shsg.org
SUMMARY:National Cross Country Final
DESCRIPTION:
URL:https://www.shsg.org/event/national-cross-country-final/
CATEGORIES:Parents’ Information,Winter Term
ATTACH;FMTTYPE=image/jpeg:https://www.shsg.org/wp-content/uploads/2023/11/running.jpeg
END:VEVENT
BEGIN:VEVENT
DTSTART;TZID=Europe/London:20241206T113000
DTEND;TZID=Europe/London:20241206T121500
DTSTAMP:20260424T054443
CREATED:20241115T101237Z
LAST-MODIFIED:20241115T101237Z
UID:8908-1733484600-1733487300@www.shsg.org
SUMMARY:External Year 11 Tours - Sixth Form
DESCRIPTION:
URL:https://www.shsg.org/event/external-year-11-tours-sixth-frm-11-pm-2/
CATEGORIES:Autumn Term,Key Dates,Parents’ Information
ATTACH;FMTTYPE=image/jpeg:https://www.shsg.org/wp-content/uploads/2021/09/Southend-High-School-Exports_-2-scaled.jpg
END:VEVENT
BEGIN:VEVENT
DTSTART;TZID=Europe/London:20241206T133000
DTEND;TZID=Europe/London:20241206T141500
DTSTAMP:20260424T054443
CREATED:20241118T105932Z
LAST-MODIFIED:20241118T105932Z
UID:8926-1733491800-1733494500@www.shsg.org
SUMMARY:External Year 11 Tours - Sixth Form
DESCRIPTION:
URL:https://www.shsg.org/event/external-year-11-tours-sixth-frm-pm/
CATEGORIES:Autumn Term,Key Dates,Parents’ Information
ATTACH;FMTTYPE=image/jpeg:https://www.shsg.org/wp-content/uploads/2021/09/Southend-High-School-Exports_-2-scaled.jpg
END:VEVENT
BEGIN:VEVENT
DTSTART;VALUE=DATE:20241209
DTEND;VALUE=DATE:20241214
DTSTAMP:20260424T054443
CREATED:20241118T110239Z
LAST-MODIFIED:20241118T110239Z
UID:8927-1733702400-1734134399@www.shsg.org
SUMMARY:Year 11 - MFL PPE's
DESCRIPTION:
URL:https://www.shsg.org/event/year-11-mfl-ppes-12-24/
CATEGORIES:Autumn Term,Exams Information,Parents’ Information
ATTACH;FMTTYPE=image/jpeg:https://www.shsg.org/wp-content/uploads/2022/05/MFL.jpg
END:VEVENT
BEGIN:VEVENT
DTSTART;TZID=Europe/London:20241209T190000
DTEND;TZID=Europe/London:20241209T210000
DTSTAMP:20260424T054443
CREATED:20240815T122037Z
LAST-MODIFIED:20240815T122037Z
UID:8460-1733770800-1733778000@www.shsg.org
SUMMARY:Winter Concert
DESCRIPTION:
URL:https://www.shsg.org/event/winter-concert-2024/
CATEGORIES:Autumn Term,Key Dates,Parents’ Information,School Event
ATTACH;FMTTYPE=image/png:https://www.shsg.org/wp-content/uploads/2021/08/Banner-4-music-3.png
END:VEVENT
BEGIN:VEVENT
DTSTART;TZID=Europe/London:20241210T190000
DTEND;TZID=Europe/London:20241210T210000
DTSTAMP:20260424T054443
CREATED:20240815T122109Z
LAST-MODIFIED:20240815T122109Z
UID:8461-1733857200-1733864400@www.shsg.org
SUMMARY:Winter Concert
DESCRIPTION:
URL:https://www.shsg.org/event/winter-concert-2024-2/
CATEGORIES:Autumn Term,Key Dates,School Event
ATTACH;FMTTYPE=image/png:https://www.shsg.org/wp-content/uploads/2021/08/Banner-4-music-3.png
END:VEVENT
BEGIN:VEVENT
DTSTART;VALUE=DATE:20241212
DTEND;VALUE=DATE:20241213
DTSTAMP:20260424T054443
CREATED:20240815T103613Z
LAST-MODIFIED:20240815T103613Z
UID:8446-1733961600-1734047999@www.shsg.org
SUMMARY:Christmas Jumper Day
DESCRIPTION:
URL:https://www.shsg.org/event/christmas-jumper-day-2024/
CATEGORIES:Autumn Term,Key Dates,Parents’ Information,School Event
ATTACH;FMTTYPE=image/jpeg:https://www.shsg.org/wp-content/uploads/2023/11/Christmas-Jumper-Day.jpeg
END:VEVENT
BEGIN:VEVENT
DTSTART;VALUE=DATE:20241212
DTEND;VALUE=DATE:20241213
DTSTAMP:20260424T054443
CREATED:20240815T103829Z
LAST-MODIFIED:20241204T121935Z
UID:8447-1733961600-1734047999@www.shsg.org
SUMMARY:Christmas Lunch
DESCRIPTION:
URL:https://www.shsg.org/event/christmas-lunch-2024/
CATEGORIES:Autumn Term,Parents’ Information,School Event
END:VEVENT
BEGIN:VEVENT
DTSTART;VALUE=DATE:20241216
DTEND;VALUE=DATE:20241218
DTSTAMP:20260424T054443
CREATED:20241118T110400Z
LAST-MODIFIED:20241118T110400Z
UID:8928-1734307200-1734479999@www.shsg.org
SUMMARY:Year 13 - MFL PPE's
DESCRIPTION:
URL:https://www.shsg.org/event/year-13-mfl-ppes-12-24/
CATEGORIES:Autumn Term,Exams Information,Parents’ Information
ATTACH;FMTTYPE=image/jpeg:https://www.shsg.org/wp-content/uploads/2022/05/MFL.jpg
END:VEVENT
BEGIN:VEVENT
DTSTART;TZID=Europe/London:20241217T190000
DTEND;TZID=Europe/London:20241217T210000
DTSTAMP:20260424T054443
CREATED:20240815T122219Z
LAST-MODIFIED:20240815T122219Z
UID:8462-1734462000-1734469200@www.shsg.org
SUMMARY:Carol Service
DESCRIPTION:
URL:https://www.shsg.org/event/carol-service-2024/
CATEGORIES:Autumn Term,Parents’ Information,School Event
ATTACH;FMTTYPE=image/jpeg:https://www.shsg.org/wp-content/uploads/2023/09/Carol-Service.jpeg
END:VEVENT
BEGIN:VEVENT
DTSTART;VALUE=DATE:20241218
DTEND;VALUE=DATE:20241219
DTSTAMP:20260424T054443
CREATED:20241118T111023Z
LAST-MODIFIED:20241118T111038Z
UID:8929-1734480000-1734566399@www.shsg.org
SUMMARY:A-Level Subject Fair
DESCRIPTION:
URL:https://www.shsg.org/event/a-level-subject-fair-12-24/
CATEGORIES:Autumn Term,Parents’ Information,School Event
ATTACH;FMTTYPE=image/png:https://www.shsg.org/wp-content/uploads/2024/11/SHSG-STUDENT-OPEN-BOOK.png
END:VEVENT
BEGIN:VEVENT
DTSTART;VALUE=DATE:20241220
DTEND;VALUE=DATE:20241221
DTSTAMP:20260424T054443
CREATED:20241118T102329Z
LAST-MODIFIED:20241118T102329Z
UID:8919-1734652800-1734739199@www.shsg.org
SUMMARY:Sixth Form Admissions - Application Deadline
DESCRIPTION:
URL:https://www.shsg.org/event/sixth-form-admissions-application-deadline-2024/
CATEGORIES:Autumn Term,Key Dates,Parents’ Information
ATTACH;FMTTYPE=image/jpeg:https://www.shsg.org/wp-content/uploads/2021/09/Southend-High-School-Exports_-2-scaled.jpg
END:VEVENT
BEGIN:VEVENT
DTSTART;TZID=Europe/London:20241220T122500
DTEND;TZID=Europe/London:20241220T153000
DTSTAMP:20260424T054443
CREATED:20241211T104849Z
LAST-MODIFIED:20241211T104908Z
UID:8964-1734697500-1734708600@www.shsg.org
SUMMARY:End of Term – Half Day for students (12.25pm)
DESCRIPTION:
URL:https://www.shsg.org/event/end-of-term-dec-24/
CATEGORIES:Autumn Term,Featured Event,Key Dates,Parents’ Information
ATTACH;FMTTYPE=image/png:https://www.shsg.org/wp-content/uploads/2021/06/SHSG-frame-e1637162704926.png
END:VEVENT
END:VCALENDAR